BEGIN:VCALENDAR
VERSION:2.0
PRODID:-//Carousel Lounge - ECPv6.15.20//NONSGML v1.0//EN
CALSCALE:GREGORIAN
METHOD:PUBLISH
X-WR-CALNAME:Carousel Lounge
X-ORIGINAL-URL:https://carousellounge.com
X-WR-CALDESC:Events for Carousel Lounge
REFRESH-INTERVAL;VALUE=DURATION:PT1H
X-Robots-Tag:noindex
X-PUBLISHED-TTL:PT1H
BEGIN:VTIMEZONE
TZID:America/Chicago
BEGIN:DAYLIGHT
TZOFFSETFROM:-0600
TZOFFSETTO:-0500
TZNAME:CDT
DTSTART:20240310T080000
END:DAYLIGHT
BEGIN:STANDARD
TZOFFSETFROM:-0500
TZOFFSETTO:-0600
TZNAME:CST
DTSTART:20241103T070000
END:STANDARD
BEGIN:DAYLIGHT
TZOFFSETFROM:-0600
TZOFFSETTO:-0500
TZNAME:CDT
DTSTART:20250309T080000
END:DAYLIGHT
BEGIN:STANDARD
TZOFFSETFROM:-0500
TZOFFSETTO:-0600
TZNAME:CST
DTSTART:20251102T070000
END:STANDARD
BEGIN:DAYLIGHT
TZOFFSETFROM:-0600
TZOFFSETTO:-0500
TZNAME:CDT
DTSTART:20260308T080000
END:DAYLIGHT
BEGIN:STANDARD
TZOFFSETFROM:-0500
TZOFFSETTO:-0600
TZNAME:CST
DTSTART:20261101T070000
END:STANDARD
END:VTIMEZONE
BEGIN:VEVENT
DTSTART;TZID=America/Chicago:20251219T190000
DTEND;TZID=America/Chicago:20251219T210000
DTSTAMP:20260419T225205
CREATED:20251024T190141Z
LAST-MODIFIED:20251217T021729Z
UID:10000806-1766170800-1766178000@carousellounge.com
SUMMARY:Lisa Gamache & Banned For Life w/special guest Street Fighting Man
DESCRIPTION:
URL:https://carousellounge.com/calendar/lisa-gamache-banned-for-life-4/
LOCATION:Carousel Lounge\, 1110 E 52nd St.\, Austin\, TX\, 78704\, United States
END:VEVENT
BEGIN:VEVENT
DTSTART;TZID=America/Chicago:20251218T190000
DTEND;TZID=America/Chicago:20251218T210000
DTSTAMP:20260419T225205
CREATED:20251113T042902Z
LAST-MODIFIED:20251113T042942Z
UID:10000834-1766084400-1766091600@carousellounge.com
SUMMARY:Swerve Left
DESCRIPTION:
URL:https://carousellounge.com/calendar/swerve-left-7/
LOCATION:Carousel Lounge\, 1110 E 52nd St.\, Austin\, TX\, 78704\, United States
END:VEVENT
BEGIN:VEVENT
DTSTART;TZID=America/Chicago:20251217T190000
DTEND;TZID=America/Chicago:20251217T210000
DTSTAMP:20260419T225205
CREATED:20251108T002006Z
LAST-MODIFIED:20251108T002006Z
UID:10000823-1765998000-1766005200@carousellounge.com
SUMMARY:SOB & The Dangs
DESCRIPTION:
URL:https://carousellounge.com/calendar/sob-the-dangs-2/
LOCATION:Carousel Lounge\, 1110 E 52nd St.\, Austin\, TX\, 78704\, United States
END:VEVENT
BEGIN:VEVENT
DTSTART;TZID=America/Chicago:20251217T163000
DTEND;TZID=America/Chicago:20251217T170000
DTSTAMP:20260419T225205
CREATED:20251214T192434Z
LAST-MODIFIED:20251214T192824Z
UID:10000908-1765989000-1765990800@carousellounge.com
SUMMARY:Nature\, LLC
DESCRIPTION:
URL:https://carousellounge.com/calendar/nature-llc/
LOCATION:Carousel Lounge\, 1110 E 52nd St.\, Austin\, TX\, 78704\, United States
END:VEVENT
BEGIN:VEVENT
DTSTART;TZID=America/Chicago:20251214T140000
DTEND;TZID=America/Chicago:20251214T190000
DTSTAMP:20260419T225205
CREATED:20251126T033307Z
LAST-MODIFIED:20251126T033944Z
UID:10000875-1765720800-1765738800@carousellounge.com
SUMMARY:Angie's Holiday Bazaar 2-7pm
DESCRIPTION:
URL:https://carousellounge.com/calendar/angies-holiday-bazaar-2-7pm/
LOCATION:Carousel Lounge\, 1110 E 52nd St.\, Austin\, TX\, 78704\, United States
END:VEVENT
BEGIN:VEVENT
DTSTART;TZID=America/Chicago:20251213T230000
DTEND;TZID=America/Chicago:20251214T000000
DTSTAMP:20260419T225205
CREATED:20251129T172739Z
LAST-MODIFIED:20251129T172739Z
UID:10000877-1765666800-1765670400@carousellounge.com
SUMMARY:Tony Frische 11pm\, Gwen Mcmillin midnite-1am
DESCRIPTION:
URL:https://carousellounge.com/calendar/tony-frische-11pm-gwen-mcmillin-midnite-1am/
LOCATION:Carousel Lounge\, 1110 E 52nd St.\, Austin\, TX\, 78704\, United States
END:VEVENT
BEGIN:VEVENT
DTSTART;TZID=America/Chicago:20251213T210000
DTEND;TZID=America/Chicago:20251213T230000
DTSTAMP:20260419T225205
CREATED:20251125T170658Z
LAST-MODIFIED:20251125T170658Z
UID:10000868-1765659600-1765666800@carousellounge.com
SUMMARY:Sofia Villarreal & Friends
DESCRIPTION:
URL:https://carousellounge.com/calendar/sofia-villarreal-friends/
LOCATION:Carousel Lounge\, 1110 E 52nd St.\, Austin\, TX\, 78704\, United States
END:VEVENT
BEGIN:VEVENT
DTSTART;TZID=America/Chicago:20251213T170000
DTEND;TZID=America/Chicago:20251213T210000
DTSTAMP:20260419T225205
CREATED:20251115T022311Z
LAST-MODIFIED:20251115T220752Z
UID:10000835-1765645200-1765659600@carousellounge.com
SUMMARY:Velvet Serenade 5-7pm\, Galaxy 7-9pm (Tom)
DESCRIPTION:
URL:https://carousellounge.com/calendar/velvet-serenade-tom/
LOCATION:Carousel Lounge\, 1110 E 52nd St.\, Austin\, TX\, 78704\, United States
END:VEVENT
BEGIN:VEVENT
DTSTART;TZID=America/Chicago:20251213T080000
DTEND;TZID=America/Chicago:20251213T170000
DTSTAMP:20260419T225205
CREATED:20251214T034306Z
LAST-MODIFIED:20251214T034306Z
UID:10000902-1765612800-1765645200@carousellounge.com
SUMMARY:Decorating 7pm\, Retail Giant (tbd) 8-9pm
DESCRIPTION:
URL:https://carousellounge.com/calendar/decorating-7pm-retail-giant-tbd-8-9pm/
LOCATION:Carousel Lounge\, 1110 E 52nd St.\, Austin\, TX\, 78704\, United States
END:VEVENT
BEGIN:VEVENT
DTSTART;TZID=America/Chicago:20251212T210000
DTEND;TZID=America/Chicago:20251212T230000
DTSTAMP:20260419T225205
CREATED:20251125T170535Z
LAST-MODIFIED:20251125T170535Z
UID:10000867-1765573200-1765580400@carousellounge.com
SUMMARY:Rasta Sol 9pm\, Ras Mundi 10-11pm
DESCRIPTION:
URL:https://carousellounge.com/calendar/rasta-sol-9pm-ras-mundi-10-11pm/
LOCATION:Carousel Lounge\, 1110 E 52nd St.\, Austin\, TX\, 78704\, United States
END:VEVENT
BEGIN:VEVENT
DTSTART;TZID=America/Chicago:20251212T190000
DTEND;TZID=America/Chicago:20251212T210000
DTSTAMP:20260419T225205
CREATED:20251119T230007Z
LAST-MODIFIED:20251119T230007Z
UID:10000850-1765566000-1765573200@carousellounge.com
SUMMARY:Big Room (Rand)
DESCRIPTION:
URL:https://carousellounge.com/calendar/big-room-rand/
LOCATION:Carousel Lounge\, 1110 E 52nd St.\, Austin\, TX\, 78704\, United States
END:VEVENT
BEGIN:VEVENT
DTSTART;TZID=America/Chicago:20251212T170000
DTEND;TZID=America/Chicago:20251212T190000
DTSTAMP:20260419T225205
CREATED:20251105T165109Z
LAST-MODIFIED:20251105T165109Z
UID:10000818-1765558800-1765566000@carousellounge.com
SUMMARY:Allan Gill
DESCRIPTION:
URL:https://carousellounge.com/calendar/allan-gill-39/
LOCATION:Carousel Lounge\, 1110 E 52nd St.\, Austin\, TX\, 78704\, United States
END:VEVENT
BEGIN:VEVENT
DTSTART;TZID=America/Chicago:20251211T220000
DTEND;TZID=America/Chicago:20251212T000000
DTSTAMP:20260419T225205
CREATED:20251120T000433Z
LAST-MODIFIED:20251120T000433Z
UID:10000852-1765490400-1765497600@carousellounge.com
SUMMARY:Deadpan (Mickey M)
DESCRIPTION:
URL:https://carousellounge.com/calendar/deadpan-mickey-m/
LOCATION:Carousel Lounge\, 1110 E 52nd St.\, Austin\, TX\, 78704\, United States
END:VEVENT
BEGIN:VEVENT
DTSTART;TZID=America/Chicago:20251211T190000
DTEND;TZID=America/Chicago:20251211T220000
DTSTAMP:20260419T225205
CREATED:20251019T162819Z
LAST-MODIFIED:20251023T214841Z
UID:10000798-1765479600-1765490400@carousellounge.com
SUMMARY:Where Are the Bats\, Secondhand Sound\, and Perfect Image
DESCRIPTION:
URL:https://carousellounge.com/calendar/where-are-the-bats-and-two-other-bands/
LOCATION:Carousel Lounge\, 1110 E 52nd St.\, Austin\, TX\, 78704\, United States
END:VEVENT
BEGIN:VEVENT
DTSTART;TZID=America/Chicago:20251211T170000
DTEND;TZID=America/Chicago:20251211T190000
DTSTAMP:20260419T225205
CREATED:20251202T162026Z
LAST-MODIFIED:20251202T162026Z
UID:10000882-1765472400-1765479600@carousellounge.com
SUMMARY:David Fore & Friends
DESCRIPTION:
URL:https://carousellounge.com/calendar/david-fore-friends-2/
LOCATION:Carousel Lounge\, 1110 E 52nd St.\, Austin\, TX\, 78704\, United States
END:VEVENT
BEGIN:VEVENT
DTSTART;TZID=America/Chicago:20251210T210000
DTEND;TZID=America/Chicago:20251211T000000
DTSTAMP:20260419T225205
CREATED:20251125T031008Z
LAST-MODIFIED:20251129T173243Z
UID:10000865-1765400400-1765411200@carousellounge.com
SUMMARY:Tony Frische 9pm\, Stone of the Sun 10pm\, The Turducken 11-midnite (Rand)
DESCRIPTION:
URL:https://carousellounge.com/calendar/stone-of-the-sun-rand/
LOCATION:Carousel Lounge\, 1110 E 52nd St.\, Austin\, TX\, 78704\, United States
END:VEVENT
BEGIN:VEVENT
DTSTART;TZID=America/Chicago:20251210T200000
DTEND;TZID=America/Chicago:20251210T210000
DTSTAMP:20260419T225205
CREATED:20251019T162014Z
LAST-MODIFIED:20251019T162014Z
UID:10000797-1765396800-1765400400@carousellounge.com
SUMMARY:Horsetail
DESCRIPTION:
URL:https://carousellounge.com/calendar/horsetail/
LOCATION:Carousel Lounge\, 1110 E 52nd St.\, Austin\, TX\, 78704\, United States
END:VEVENT
BEGIN:VEVENT
DTSTART;TZID=America/Chicago:20251210T190000
DTEND;TZID=America/Chicago:20251210T200000
DTSTAMP:20260419T225205
CREATED:20250915T164855Z
LAST-MODIFIED:20251019T161924Z
UID:10000767-1765393200-1765396800@carousellounge.com
SUMMARY:Sylvan River Band
DESCRIPTION:
URL:https://carousellounge.com/calendar/horsetail-and-another-band/
LOCATION:Carousel Lounge\, 1110 E 52nd St.\, Austin\, TX\, 78704\, United States
END:VEVENT
BEGIN:VEVENT
DTSTART;TZID=America/Chicago:20251206T223000
DTEND;TZID=America/Chicago:20251207T010000
DTSTAMP:20260419T225205
CREATED:20251019T191635Z
LAST-MODIFIED:20251031T191813Z
UID:10000799-1765060200-1765069200@carousellounge.com
SUMMARY:Lindsay Beaver 10:30pm \, Ugly Beats 11:30pm-1am
DESCRIPTION:
URL:https://carousellounge.com/calendar/ugly-beats/
LOCATION:Carousel Lounge\, 1110 E 52nd St.\, Austin\, TX\, 78704\, United States
END:VEVENT
BEGIN:VEVENT
DTSTART;TZID=America/Chicago:20251206T210000
DTEND;TZID=America/Chicago:20251206T220000
DTSTAMP:20260419T225205
CREATED:20251115T155737Z
LAST-MODIFIED:20251115T155737Z
UID:10000836-1765054800-1765058400@carousellounge.com
SUMMARY:The Hasty Licks
DESCRIPTION:
URL:https://carousellounge.com/calendar/the-hasty-licks-4/
LOCATION:Carousel Lounge\, 1110 E 52nd St.\, Austin\, TX\, 78704\, United States
END:VEVENT
BEGIN:VEVENT
DTSTART;TZID=America/Chicago:20251206T180000
DTEND;TZID=America/Chicago:20251206T210000
DTSTAMP:20260419T225205
CREATED:20251105T164444Z
LAST-MODIFIED:20251115T213416Z
UID:10000817-1765044000-1765054800@carousellounge.com
SUMMARY:The Schoolmen 6pm\,Tony Frische 7pm\, Nematoads 8pm
DESCRIPTION:
URL:https://carousellounge.com/calendar/nematoads-another-band-to-confirm/
LOCATION:Carousel Lounge\, 1110 E 52nd St.\, Austin\, TX\, 78704\, United States
END:VEVENT
BEGIN:VEVENT
DTSTART;TZID=America/Chicago:20251205T220000
DTEND;TZID=America/Chicago:20251206T000000
DTSTAMP:20260419T225205
CREATED:20251009T051201Z
LAST-MODIFIED:20251009T051201Z
UID:10000791-1764972000-1764979200@carousellounge.com
SUMMARY:Hidden Persuaders 10pm\, Dalla Terra 11-midnite
DESCRIPTION:
URL:https://carousellounge.com/calendar/hidden-persuaders-10pm-dalla-terra-11-midnite/
LOCATION:Carousel Lounge\, 1110 E 52nd St.\, Austin\, TX\, 78704\, United States
END:VEVENT
BEGIN:VEVENT
DTSTART;TZID=America/Chicago:20251205T190000
DTEND;TZID=America/Chicago:20251205T210000
DTSTAMP:20260419T225205
CREATED:20250811T212244Z
LAST-MODIFIED:20250811T212244Z
UID:10000723-1764961200-1764968400@carousellounge.com
SUMMARY:Mad Cowboys
DESCRIPTION:
URL:https://carousellounge.com/calendar/mad-cowboys-17/
LOCATION:Carousel Lounge\, 1110 E 52nd St.\, Austin\, TX\, 78704\, United States
END:VEVENT
BEGIN:VEVENT
DTSTART;TZID=America/Chicago:20251205T173000
DTEND;TZID=America/Chicago:20251205T180000
DTSTAMP:20260419T225205
CREATED:20251125T201811Z
LAST-MODIFIED:20251125T201811Z
UID:10000871-1764955800-1764957600@carousellounge.com
SUMMARY:K8 & the Krushers
DESCRIPTION:
URL:https://carousellounge.com/calendar/k8-the-krushers/
LOCATION:Carousel Lounge\, 1110 E 52nd St.\, Austin\, TX\, 78704\, United States
END:VEVENT
BEGIN:VEVENT
DTSTART;TZID=America/Chicago:20251204T210000
DTEND;TZID=America/Chicago:20251205T000000
DTSTAMP:20260419T225205
CREATED:20251129T172349Z
LAST-MODIFIED:20251129T172349Z
UID:10000876-1764882000-1764892800@carousellounge.com
SUMMARY:Tony Frische 9pm\, Sugar Ransom 10pm\, Jess Ledbetter 11-midnite
DESCRIPTION:
URL:https://carousellounge.com/calendar/tony-frische-9pm-sugar-ransom-10pm-jess-ledbetter-11-midnite/
LOCATION:Carousel Lounge\, 1110 E 52nd St.\, Austin\, TX\, 78704\, United States
END:VEVENT
BEGIN:VEVENT
DTSTART;TZID=America/Chicago:20251204T190000
DTEND;TZID=America/Chicago:20251204T210000
DTSTAMP:20260419T225205
CREATED:20250924T202725Z
LAST-MODIFIED:20250924T202725Z
UID:10000777-1764874800-1764882000@carousellounge.com
SUMMARY:JAMBS
DESCRIPTION:
URL:https://carousellounge.com/calendar/jambs-3/
LOCATION:Carousel Lounge\, 1110 E 52nd St.\, Austin\, TX\, 78704\, United States
END:VEVENT
BEGIN:VEVENT
DTSTART;TZID=America/Chicago:20251203T190000
DTEND;TZID=America/Chicago:20251203T210000
DTSTAMP:20260419T225205
CREATED:20250130T030443Z
LAST-MODIFIED:20250130T030443Z
UID:10000463-1764788400-1764795600@carousellounge.com
SUMMARY:Soulphonics
DESCRIPTION:
URL:https://carousellounge.com/calendar/soulphonics-16/
LOCATION:Carousel Lounge\, 1110 E 52nd St.\, Austin\, TX\, 78704\, United States
END:VEVENT
BEGIN:VEVENT
DTSTART;TZID=America/Chicago:20251203T170000
DTEND;TZID=America/Chicago:20251203T183000
DTSTAMP:20260419T225205
CREATED:20250910T010853Z
LAST-MODIFIED:20250910T010938Z
UID:10000759-1764781200-1764786600@carousellounge.com
SUMMARY:Peter Keane
DESCRIPTION:
URL:https://carousellounge.com/calendar/peter-keane-10/
LOCATION:Carousel Lounge\, 1110 E 52nd St.\, Austin\, TX\, 78704\, United States
END:VEVENT
BEGIN:VEVENT
DTSTART;TZID=America/Chicago:20251129T200000
DTEND;TZID=America/Chicago:20251129T220000
DTSTAMP:20260419T225205
CREATED:20251119T225447Z
LAST-MODIFIED:20251119T225447Z
UID:10000849-1764446400-1764453600@carousellounge.com
SUMMARY:Ha Lanana (Rand)
DESCRIPTION:
URL:https://carousellounge.com/calendar/ha-lanana-rand/
LOCATION:Carousel Lounge\, 1110 E 52nd St.\, Austin\, TX\, 78704\, United States
END:VEVENT
BEGIN:VEVENT
DTSTART;TZID=America/Chicago:20251129T170000
DTEND;TZID=America/Chicago:20251129T190000
DTSTAMP:20260419T225205
CREATED:20251102T023514Z
LAST-MODIFIED:20251111T225409Z
UID:10000812-1764435600-1764442800@carousellounge.com
SUMMARY:Gwen McMillin & Deidre Rodriquez
DESCRIPTION:
URL:https://carousellounge.com/calendar/gwen-mcmillin-deidre-rodriquez/
LOCATION:Carousel Lounge\, 1110 E 52nd St.\, Austin\, TX\, 78704\, United States
END:VEVENT
END:VCALENDAR