BEGIN:VCALENDAR
VERSION:2.0
PRODID:-//Carousel Lounge - ECPv6.15.20//NONSGML v1.0//EN
CALSCALE:GREGORIAN
METHOD:PUBLISH
X-WR-CALNAME:Carousel Lounge
X-ORIGINAL-URL:https://carousellounge.com
X-WR-CALDESC:Events for Carousel Lounge
REFRESH-INTERVAL;VALUE=DURATION:PT1H
X-Robots-Tag:noindex
X-PUBLISHED-TTL:PT1H
BEGIN:VTIMEZONE
TZID:America/Chicago
BEGIN:DAYLIGHT
TZOFFSETFROM:-0600
TZOFFSETTO:-0500
TZNAME:CDT
DTSTART:20240310T080000
END:DAYLIGHT
BEGIN:STANDARD
TZOFFSETFROM:-0500
TZOFFSETTO:-0600
TZNAME:CST
DTSTART:20241103T070000
END:STANDARD
BEGIN:DAYLIGHT
TZOFFSETFROM:-0600
TZOFFSETTO:-0500
TZNAME:CDT
DTSTART:20250309T080000
END:DAYLIGHT
BEGIN:STANDARD
TZOFFSETFROM:-0500
TZOFFSETTO:-0600
TZNAME:CST
DTSTART:20251102T070000
END:STANDARD
BEGIN:DAYLIGHT
TZOFFSETFROM:-0600
TZOFFSETTO:-0500
TZNAME:CDT
DTSTART:20260308T080000
END:DAYLIGHT
BEGIN:STANDARD
TZOFFSETFROM:-0500
TZOFFSETTO:-0600
TZNAME:CST
DTSTART:20261101T070000
END:STANDARD
BEGIN:DAYLIGHT
TZOFFSETFROM:-0600
TZOFFSETTO:-0500
TZNAME:CDT
DTSTART:20270314T080000
END:DAYLIGHT
BEGIN:STANDARD
TZOFFSETFROM:-0500
TZOFFSETTO:-0600
TZNAME:CST
DTSTART:20271107T070000
END:STANDARD
END:VTIMEZONE
BEGIN:VEVENT
DTSTART;TZID=America/Chicago:20260114T190000
DTEND;TZID=America/Chicago:20260114T210000
DTSTAMP:20260419T201102
CREATED:20251203T013823Z
LAST-MODIFIED:20251203T013823Z
UID:10000886-1768417200-1768424400@carousellounge.com
SUMMARY:S. Souls 7pm\, Pursue 8-9pm
DESCRIPTION:
URL:https://carousellounge.com/calendar/s-souls-7pm-pursue-8-9pm/
LOCATION:Carousel Lounge\, 1110 E 52nd St.\, Austin\, TX\, 78704\, United States
END:VEVENT
BEGIN:VEVENT
DTSTART;TZID=America/Chicago:20260110T210000
DTEND;TZID=America/Chicago:20260110T230000
DTSTAMP:20260419T201102
CREATED:20251230T023705Z
LAST-MODIFIED:20251230T023958Z
UID:10000929-1768078800-1768086000@carousellounge.com
SUMMARY:South Austin Pop Collective
DESCRIPTION:
URL:https://carousellounge.com/calendar/south-austin-pop-collective-3/
LOCATION:Carousel Lounge\, 1110 E 52nd St.\, Austin\, TX\, 78704\, United States
END:VEVENT
BEGIN:VEVENT
DTSTART;TZID=America/Chicago:20260110T190000
DTEND;TZID=America/Chicago:20260110T210000
DTSTAMP:20260419T201102
CREATED:20251125T183433Z
LAST-MODIFIED:20251125T183433Z
UID:10000870-1768071600-1768078800@carousellounge.com
SUMMARY:Straight Ahead
DESCRIPTION:
URL:https://carousellounge.com/calendar/straight-ahead-6/
LOCATION:Carousel Lounge\, 1110 E 52nd St.\, Austin\, TX\, 78704\, United States
END:VEVENT
BEGIN:VEVENT
DTSTART;TZID=America/Chicago:20260109T213000
DTEND;TZID=America/Chicago:20260110T000000
DTSTAMP:20260419T201102
CREATED:20251119T224441Z
LAST-MODIFIED:20251214T193154Z
UID:10000846-1767994200-1768003200@carousellounge.com
SUMMARY:Coffee Sergeants 9:30-10:30pm\, Daily Worker 11pm-midnite
DESCRIPTION:
URL:https://carousellounge.com/calendar/coffee-sergeants-9-11pm/
LOCATION:Carousel Lounge\, 1110 E 52nd St.\, Austin\, TX\, 78704\, United States
END:VEVENT
BEGIN:VEVENT
DTSTART;TZID=America/Chicago:20260109T190000
DTEND;TZID=America/Chicago:20260109T210000
DTSTAMP:20260419T201102
CREATED:20251119T223939Z
LAST-MODIFIED:20251119T223939Z
UID:10000845-1767985200-1767992400@carousellounge.com
SUMMARY:Rich Hopkins & the Luminarios
DESCRIPTION:
URL:https://carousellounge.com/calendar/rich-hopkins-the-luminarios/
LOCATION:Carousel Lounge\, 1110 E 52nd St.\, Austin\, TX\, 78704\, United States
END:VEVENT
BEGIN:VEVENT
DTSTART;TZID=America/Chicago:20260109T170000
DTEND;TZID=America/Chicago:20260109T190000
DTSTAMP:20260419T201102
CREATED:20251108T180015Z
LAST-MODIFIED:20251108T180015Z
UID:10000826-1767978000-1767985200@carousellounge.com
SUMMARY:Allan Gill
DESCRIPTION:
URL:https://carousellounge.com/calendar/allan-gill-35/
LOCATION:Carousel Lounge\, 1110 E 52nd St.\, Austin\, TX\, 78704\, United States
END:VEVENT
BEGIN:VEVENT
DTSTART;TZID=America/Chicago:20260108T190000
DTEND;TZID=America/Chicago:20260108T210000
DTSTAMP:20260419T201102
CREATED:20250529T184301Z
LAST-MODIFIED:20250529T184301Z
UID:10000621-1767898800-1767906000@carousellounge.com
SUMMARY:Garden of Eden 7-9pm (Scotty Cha}
DESCRIPTION:
URL:https://carousellounge.com/calendar/garden-of-eden-7-9pm-scotty-cha/
LOCATION:Carousel Lounge\, 1110 E 52nd St.\, Austin\, TX\, 78704\, United States
END:VEVENT
BEGIN:VEVENT
DTSTART;TZID=America/Chicago:20260108T170000
DTEND;TZID=America/Chicago:20260108T190000
DTSTAMP:20260419T201102
CREATED:20251214T191056Z
LAST-MODIFIED:20251214T191642Z
UID:10000906-1767891600-1767898800@carousellounge.com
SUMMARY:Austin Lowrance
DESCRIPTION:
URL:https://carousellounge.com/calendar/austin-lowrance-3/
LOCATION:Carousel Lounge\, 1110 E 52nd St.\, Austin\, TX\, 78704\, United States
END:VEVENT
BEGIN:VEVENT
DTSTART;TZID=America/Chicago:20260107T190000
DTEND;TZID=America/Chicago:20260107T210000
DTSTAMP:20260419T201102
CREATED:20251219T025102Z
LAST-MODIFIED:20251219T025102Z
UID:10000913-1767812400-1767819600@carousellounge.com
SUMMARY:Soulphonics
DESCRIPTION:
URL:https://carousellounge.com/calendar/soulphonics-17/
LOCATION:Carousel Lounge\, 1110 E 52nd St.\, Austin\, TX\, 78704\, United States
END:VEVENT
BEGIN:VEVENT
DTSTART;TZID=America/Chicago:20260107T170000
DTEND;TZID=America/Chicago:20260107T183000
DTSTAMP:20260419T201102
CREATED:20251206T001253Z
LAST-MODIFIED:20251206T001253Z
UID:10000899-1767805200-1767810600@carousellounge.com
SUMMARY:Peter Keane
DESCRIPTION:
URL:https://carousellounge.com/calendar/peter-keane-15/
LOCATION:Carousel Lounge\, 1110 E 52nd St.\, Austin\, TX\, 78704\, United States
END:VEVENT
BEGIN:VEVENT
DTSTART;TZID=America/Chicago:20260103T190000
DTEND;TZID=America/Chicago:20260103T220000
DTSTAMP:20260419T201102
CREATED:20251205T211111Z
LAST-MODIFIED:20251205T235657Z
UID:10000896-1767466800-1767477600@carousellounge.com
SUMMARY:Ladies Dance Party (Kelli)
DESCRIPTION:
URL:https://carousellounge.com/calendar/ladies-dance-party-kelli-to-confirm/
LOCATION:Carousel Lounge\, 1110 E 52nd St.\, Austin\, TX\, 78704\, United States
END:VEVENT
BEGIN:VEVENT
DTSTART;TZID=America/Chicago:20260103T170000
DTEND;TZID=America/Chicago:20260103T190000
DTSTAMP:20260419T201102
CREATED:20251202T172653Z
LAST-MODIFIED:20251202T172653Z
UID:10000884-1767459600-1767466800@carousellounge.com
SUMMARY:Gwen McMillin
DESCRIPTION:
URL:https://carousellounge.com/calendar/gwen-mcmillin-3/
LOCATION:Carousel Lounge\, 1110 E 52nd St.\, Austin\, TX\, 78704\, United States
END:VEVENT
BEGIN:VEVENT
DTSTART;TZID=America/Chicago:20260102T190000
DTEND;TZID=America/Chicago:20260102T210000
DTSTAMP:20260419T201102
CREATED:20251118T172502Z
LAST-MODIFIED:20251118T172502Z
UID:10000841-1767380400-1767387600@carousellounge.com
SUMMARY:Mad Cowboys
DESCRIPTION:
URL:https://carousellounge.com/calendar/mad-cowboys-18/
LOCATION:Carousel Lounge\, 1110 E 52nd St.\, Austin\, TX\, 78704\, United States
END:VEVENT
BEGIN:VEVENT
DTSTART;TZID=America/Chicago:20251231T153000
DTEND;TZID=America/Chicago:20260101T000000
DTSTAMP:20260419T201102
CREATED:20251231T152700Z
LAST-MODIFIED:20251231T161211Z
UID:10000931-1767195000-1767225600@carousellounge.com
SUMMARY:Come celebrate with us tonight. . . .
DESCRIPTION:
URL:https://carousellounge.com/calendar/come-celebrate-with-us-tonight/
LOCATION:Carousel Lounge\, 1110 E 52nd St.\, Austin\, TX\, 78704\, United States
END:VEVENT
BEGIN:VEVENT
DTSTART;TZID=America/Chicago:20251228T080000
DTEND;TZID=America/Chicago:20251228T170000
DTSTAMP:20260419T201102
CREATED:20251229T025708Z
LAST-MODIFIED:20251229T025811Z
UID:10000926-1766908800-1766941200@carousellounge.com
SUMMARY:Meagan Clark Bday party to confirm 5:30-7:30 private party\, OPEN TO PUBLIC AFTER
DESCRIPTION:
URL:https://carousellounge.com/calendar/meagan-clark-bday-party-to-confirm-530-730-private-party-open-to-public-after/
LOCATION:Carousel Lounge\, 1110 E 52nd St.\, Austin\, TX\, 78704\, United States
END:VEVENT
BEGIN:VEVENT
DTSTART;TZID=America/Chicago:20251227T170000
DTEND;TZID=America/Chicago:20251227T190000
DTSTAMP:20260419T201102
CREATED:20251214T192145Z
LAST-MODIFIED:20251214T192145Z
UID:10000907-1766854800-1766862000@carousellounge.com
SUMMARY:Austin Lowrance
DESCRIPTION:
URL:https://carousellounge.com/calendar/austin-lowrance-2/
LOCATION:Carousel Lounge\, 1110 E 52nd St.\, Austin\, TX\, 78704\, United States
END:VEVENT
BEGIN:VEVENT
DTSTART;TZID=America/Chicago:20251226T170000
DTEND;TZID=America/Chicago:20251226T190000
DTSTAMP:20260419T201102
CREATED:20251105T165236Z
LAST-MODIFIED:20251105T165403Z
UID:10000819-1766768400-1766775600@carousellounge.com
SUMMARY:Allan Gill
DESCRIPTION:
URL:https://carousellounge.com/calendar/allan-gill-40/
LOCATION:Carousel Lounge\, 1110 E 52nd St.\, Austin\, TX\, 78704\, United States
END:VEVENT
BEGIN:VEVENT
DTSTART;TZID=America/Chicago:20251225T080000
DTEND;TZID=America/Chicago:20251225T170000
DTSTAMP:20260419T201102
CREATED:20251105T165614Z
LAST-MODIFIED:20251105T165614Z
UID:10000820-1766649600-1766682000@carousellounge.com
SUMMARY:Closed for Christmas Enjoy!!!
DESCRIPTION:
URL:https://carousellounge.com/calendar/closed-for-christmas-enjoy/
LOCATION:Carousel Lounge\, 1110 E 52nd St.\, Austin\, TX\, 78704\, United States
END:VEVENT
BEGIN:VEVENT
DTSTART;TZID=America/Chicago:20251220T210000
DTEND;TZID=America/Chicago:20251220T233000
DTSTAMP:20260419T201102
CREATED:20251125T170846Z
LAST-MODIFIED:20251202T172054Z
UID:10000869-1766264400-1766273400@carousellounge.com
SUMMARY:Irondequoit Dodge 9pm\, Joshua Lincoln 11:30-1am
DESCRIPTION:
URL:https://carousellounge.com/calendar/irondequoit/
LOCATION:Carousel Lounge\, 1110 E 52nd St.\, Austin\, TX\, 78704\, United States
END:VEVENT
BEGIN:VEVENT
DTSTART;TZID=America/Chicago:20251220T200000
DTEND;TZID=America/Chicago:20251220T210000
DTSTAMP:20260419T201102
CREATED:20241207T192539Z
LAST-MODIFIED:20241207T192539Z
UID:10000356-1766260800-1766264400@carousellounge.com
SUMMARY:Carousel Caravan Bellydancers
DESCRIPTION:
URL:https://carousellounge.com/calendar/carousel-caravan-bellydancers-9/
LOCATION:Carousel Lounge\, 1110 E 52nd St.\, Austin\, TX\, 78704\, United States
END:VEVENT
BEGIN:VEVENT
DTSTART;TZID=America/Chicago:20251220T190000
DTEND;TZID=America/Chicago:20251220T200000
DTSTAMP:20260419T201102
CREATED:20251214T035218Z
LAST-MODIFIED:20251214T035218Z
UID:10000904-1766257200-1766260800@carousellounge.com
SUMMARY:Nematoads 7-7:45pm
DESCRIPTION:
URL:https://carousellounge.com/calendar/nematoads-7-745pm-2/
LOCATION:Carousel Lounge\, 1110 E 52nd St.\, Austin\, TX\, 78704\, United States
END:VEVENT
BEGIN:VEVENT
DTSTART;TZID=America/Chicago:20251220T173000
DTEND;TZID=America/Chicago:20251220T190000
DTSTAMP:20260419T201102
CREATED:20251219T035307Z
LAST-MODIFIED:20251219T035307Z
UID:10000915-1766251800-1766257200@carousellounge.com
SUMMARY:Tony Frische
DESCRIPTION:
URL:https://carousellounge.com/calendar/tony-frische-2/
LOCATION:Carousel Lounge\, 1110 E 52nd St.\, Austin\, TX\, 78704\, United States
END:VEVENT
BEGIN:VEVENT
DTSTART;TZID=America/Chicago:20251220T163000
DTEND;TZID=America/Chicago:20251220T173000
DTSTAMP:20260419T201102
CREATED:20251218T030153Z
LAST-MODIFIED:20251218T030153Z
UID:10000911-1766248200-1766251800@carousellounge.com
SUMMARY:Peter Keane
DESCRIPTION:
URL:https://carousellounge.com/calendar/peter-keane-16/
LOCATION:Carousel Lounge\, 1110 E 52nd St.\, Austin\, TX\, 78704\, United States
END:VEVENT
BEGIN:VEVENT
DTSTART;TZID=America/Chicago:20251219T210000
DTEND;TZID=America/Chicago:20251220T000000
DTSTAMP:20260419T201102
CREATED:20251107T034155Z
LAST-MODIFIED:20251107T034342Z
UID:10000821-1766178000-1766188800@carousellounge.com
SUMMARY:Kathy McCarty & the Speeding Motorcycle Band 9pm\, Mother Neff 10pm\, Quiness 11pm-midnite
DESCRIPTION:
URL:https://carousellounge.com/calendar/kathy-mccarty-the-speeding-motorcycle-band-9pm-mother-neff-10pm-quiness-11pm-midnite/
LOCATION:Carousel Lounge\, 1110 E 52nd St.\, Austin\, TX\, 78704\, United States
END:VEVENT
BEGIN:VEVENT
DTSTART;TZID=America/Chicago:20251219T190000
DTEND;TZID=America/Chicago:20251219T210000
DTSTAMP:20260419T201102
CREATED:20251024T190141Z
LAST-MODIFIED:20251217T021729Z
UID:10000806-1766170800-1766178000@carousellounge.com
SUMMARY:Lisa Gamache & Banned For Life w/special guest Street Fighting Man
DESCRIPTION:
URL:https://carousellounge.com/calendar/lisa-gamache-banned-for-life-4/
LOCATION:Carousel Lounge\, 1110 E 52nd St.\, Austin\, TX\, 78704\, United States
END:VEVENT
BEGIN:VEVENT
DTSTART;TZID=America/Chicago:20251218T190000
DTEND;TZID=America/Chicago:20251218T210000
DTSTAMP:20260419T201102
CREATED:20251113T042902Z
LAST-MODIFIED:20251113T042942Z
UID:10000834-1766084400-1766091600@carousellounge.com
SUMMARY:Swerve Left
DESCRIPTION:
URL:https://carousellounge.com/calendar/swerve-left-7/
LOCATION:Carousel Lounge\, 1110 E 52nd St.\, Austin\, TX\, 78704\, United States
END:VEVENT
BEGIN:VEVENT
DTSTART;TZID=America/Chicago:20251217T190000
DTEND;TZID=America/Chicago:20251217T210000
DTSTAMP:20260419T201102
CREATED:20251108T002006Z
LAST-MODIFIED:20251108T002006Z
UID:10000823-1765998000-1766005200@carousellounge.com
SUMMARY:SOB & The Dangs
DESCRIPTION:
URL:https://carousellounge.com/calendar/sob-the-dangs-2/
LOCATION:Carousel Lounge\, 1110 E 52nd St.\, Austin\, TX\, 78704\, United States
END:VEVENT
BEGIN:VEVENT
DTSTART;TZID=America/Chicago:20251217T163000
DTEND;TZID=America/Chicago:20251217T170000
DTSTAMP:20260419T201102
CREATED:20251214T192434Z
LAST-MODIFIED:20251214T192824Z
UID:10000908-1765989000-1765990800@carousellounge.com
SUMMARY:Nature\, LLC
DESCRIPTION:
URL:https://carousellounge.com/calendar/nature-llc/
LOCATION:Carousel Lounge\, 1110 E 52nd St.\, Austin\, TX\, 78704\, United States
END:VEVENT
BEGIN:VEVENT
DTSTART;TZID=America/Chicago:20251214T140000
DTEND;TZID=America/Chicago:20251214T190000
DTSTAMP:20260419T201102
CREATED:20251126T033307Z
LAST-MODIFIED:20251126T033944Z
UID:10000875-1765720800-1765738800@carousellounge.com
SUMMARY:Angie's Holiday Bazaar 2-7pm
DESCRIPTION:
URL:https://carousellounge.com/calendar/angies-holiday-bazaar-2-7pm/
LOCATION:Carousel Lounge\, 1110 E 52nd St.\, Austin\, TX\, 78704\, United States
END:VEVENT
BEGIN:VEVENT
DTSTART;TZID=America/Chicago:20251213T230000
DTEND;TZID=America/Chicago:20251214T000000
DTSTAMP:20260419T201102
CREATED:20251129T172739Z
LAST-MODIFIED:20251129T172739Z
UID:10000877-1765666800-1765670400@carousellounge.com
SUMMARY:Tony Frische 11pm\, Gwen Mcmillin midnite-1am
DESCRIPTION:
URL:https://carousellounge.com/calendar/tony-frische-11pm-gwen-mcmillin-midnite-1am/
LOCATION:Carousel Lounge\, 1110 E 52nd St.\, Austin\, TX\, 78704\, United States
END:VEVENT
END:VCALENDAR