BEGIN:VCALENDAR
VERSION:2.0
PRODID:-//Carousel Lounge - ECPv6.15.20//NONSGML v1.0//EN
CALSCALE:GREGORIAN
METHOD:PUBLISH
X-WR-CALNAME:Carousel Lounge
X-ORIGINAL-URL:https://carousellounge.com
X-WR-CALDESC:Events for Carousel Lounge
REFRESH-INTERVAL;VALUE=DURATION:PT1H
X-Robots-Tag:noindex
X-PUBLISHED-TTL:PT1H
BEGIN:VTIMEZONE
TZID:America/Chicago
BEGIN:DAYLIGHT
TZOFFSETFROM:-0600
TZOFFSETTO:-0500
TZNAME:CDT
DTSTART:20250309T080000
END:DAYLIGHT
BEGIN:STANDARD
TZOFFSETFROM:-0500
TZOFFSETTO:-0600
TZNAME:CST
DTSTART:20251102T070000
END:STANDARD
BEGIN:DAYLIGHT
TZOFFSETFROM:-0600
TZOFFSETTO:-0500
TZNAME:CDT
DTSTART:20260308T080000
END:DAYLIGHT
BEGIN:STANDARD
TZOFFSETFROM:-0500
TZOFFSETTO:-0600
TZNAME:CST
DTSTART:20261101T070000
END:STANDARD
BEGIN:DAYLIGHT
TZOFFSETFROM:-0600
TZOFFSETTO:-0500
TZNAME:CDT
DTSTART:20270314T080000
END:DAYLIGHT
BEGIN:STANDARD
TZOFFSETFROM:-0500
TZOFFSETTO:-0600
TZNAME:CST
DTSTART:20271107T070000
END:STANDARD
END:VTIMEZONE
BEGIN:VEVENT
DTSTART;TZID=America/Chicago:20260619T190000
DTEND;TZID=America/Chicago:20260619T210000
DTSTAMP:20260419T133706
CREATED:20260318T200450Z
LAST-MODIFIED:20260318T200450Z
UID:10001047-1781895600-1781902800@carousellounge.com
SUMMARY:Lisa Gamache & Banned for Life
DESCRIPTION:
URL:https://carousellounge.com/calendar/lisa-gamache-banned-for-life-10/
LOCATION:Carousel Lounge\, 1110 E 52nd St.\, Austin\, TX\, 78704\, United States
END:VEVENT
BEGIN:VEVENT
DTSTART;TZID=America/Chicago:20260620T200000
DTEND;TZID=America/Chicago:20260620T210000
DTSTAMP:20260419T133706
CREATED:20251203T030017Z
LAST-MODIFIED:20251203T030017Z
UID:10000890-1781985600-1781989200@carousellounge.com
SUMMARY:Bellydancers
DESCRIPTION:
URL:https://carousellounge.com/calendar/bellydancers-12/
LOCATION:Carousel Lounge\, 1110 E 52nd St.\, Austin\, TX\, 78704\, United States
END:VEVENT
BEGIN:VEVENT
DTSTART;TZID=America/Chicago:20260625T170000
DTEND;TZID=America/Chicago:20260625T190000
DTSTAMP:20260419T133706
CREATED:20251231T172531Z
LAST-MODIFIED:20251231T172600Z
UID:10000936-1782406800-1782414000@carousellounge.com
SUMMARY:Jahpa
DESCRIPTION:
URL:https://carousellounge.com/calendar/jahpa-9/
LOCATION:Carousel Lounge\, 1110 E 52nd St.\, Austin\, TX\, 78704\, United States
END:VEVENT
BEGIN:VEVENT
DTSTART;TZID=America/Chicago:20260626T190000
DTEND;TZID=America/Chicago:20260626T210000
DTSTAMP:20260419T133706
CREATED:20251122T182406Z
LAST-MODIFIED:20251123T015330Z
UID:10000860-1782500400-1782507600@carousellounge.com
SUMMARY:Variety Jones
DESCRIPTION:
URL:https://carousellounge.com/calendar/variety-jones-31/
LOCATION:Carousel Lounge\, 1110 E 52nd St.\, Austin\, TX\, 78704\, United States
END:VEVENT
BEGIN:VEVENT
DTSTART;TZID=America/Chicago:20260627T190000
DTEND;TZID=America/Chicago:20260627T210000
DTSTAMP:20260419T133706
CREATED:20260410T022818Z
LAST-MODIFIED:20260410T022818Z
UID:10001095-1782586800-1782594000@carousellounge.com
SUMMARY:Kirk V
DESCRIPTION:
URL:https://carousellounge.com/calendar/kirk-v-5/
LOCATION:Carousel Lounge\, 1110 E 52nd St.\, Austin\, TX\, 78704\, United States
END:VEVENT
BEGIN:VEVENT
DTSTART;TZID=America/Chicago:20260701T170000
DTEND;TZID=America/Chicago:20260701T183000
DTSTAMP:20260419T133706
CREATED:20260406T023633Z
LAST-MODIFIED:20260406T023633Z
UID:10001082-1782925200-1782930600@carousellounge.com
SUMMARY:Peter Keane
DESCRIPTION:
URL:https://carousellounge.com/calendar/peter-keane-21/
LOCATION:Carousel Lounge\, 1110 E 52nd St.\, Austin\, TX\, 78704\, United States
END:VEVENT
BEGIN:VEVENT
DTSTART;TZID=America/Chicago:20260711T190000
DTEND;TZID=America/Chicago:20260712T010000
DTSTAMP:20260419T133706
CREATED:20260407T015121Z
LAST-MODIFIED:20260410T153600Z
UID:10001085-1783796400-1783818000@carousellounge.com
SUMMARY:ST37 lineup 7-1am (Scott's Bday Show)
DESCRIPTION:
URL:https://carousellounge.com/calendar/st37-lineup-scott-7-1am/
LOCATION:Carousel Lounge\, 1110 E 52nd St.\, Austin\, TX\, 78704\, United States
END:VEVENT
BEGIN:VEVENT
DTSTART;TZID=America/Chicago:20260716T170000
DTEND;TZID=America/Chicago:20260716T190000
DTSTAMP:20260419T133706
CREATED:20260331T021010Z
LAST-MODIFIED:20260331T021010Z
UID:10001076-1784221200-1784228400@carousellounge.com
SUMMARY:Justin Alan Payne
DESCRIPTION:
URL:https://carousellounge.com/calendar/justin-alan-payne/
LOCATION:Carousel Lounge\, 1110 E 52nd St.\, Austin\, TX\, 78704\, United States
END:VEVENT
BEGIN:VEVENT
DTSTART;TZID=America/Chicago:20260716T190000
DTEND;TZID=America/Chicago:20260716T210000
DTSTAMP:20260419T133706
CREATED:20260327T144817Z
LAST-MODIFIED:20260327T144817Z
UID:10001069-1784228400-1784235600@carousellounge.com
SUMMARY:String Theory Thursday w/Eric Hisaw
DESCRIPTION:
URL:https://carousellounge.com/calendar/string-theory-thursday-w-eric-hisaw-5/
LOCATION:Carousel Lounge\, 1110 E 52nd St.\, Austin\, TX\, 78704\, United States
END:VEVENT
BEGIN:VEVENT
DTSTART;TZID=America/Chicago:20260717T190000
DTEND;TZID=America/Chicago:20260717T210000
DTSTAMP:20260419T133706
CREATED:20260318T201137Z
LAST-MODIFIED:20260318T201137Z
UID:10001051-1784314800-1784322000@carousellounge.com
SUMMARY:Lisa Gamache & Banned for Life
DESCRIPTION:
URL:https://carousellounge.com/calendar/lisa-gamache-banned-for-life-13/
LOCATION:Carousel Lounge\, 1110 E 52nd St.\, Austin\, TX\, 78704\, United States
END:VEVENT
BEGIN:VEVENT
DTSTART;TZID=America/Chicago:20260723T200000
DTEND;TZID=America/Chicago:20260724T000000
DTSTAMP:20260419T133706
CREATED:20251023T220127Z
LAST-MODIFIED:20251023T220127Z
UID:10000803-1784836800-1784851200@carousellounge.com
SUMMARY:General 11 and three other bands
DESCRIPTION:
URL:https://carousellounge.com/calendar/general-11-and-three-other-bands/
LOCATION:Carousel Lounge\, 1110 E 52nd St.\, Austin\, TX\, 78704\, United States
END:VEVENT
BEGIN:VEVENT
DTSTART;TZID=America/Chicago:20260725T190000
DTEND;TZID=America/Chicago:20260725T210000
DTSTAMP:20260419T133706
CREATED:20260410T023158Z
LAST-MODIFIED:20260410T023330Z
UID:10001096-1785006000-1785013200@carousellounge.com
SUMMARY:Kirk V
DESCRIPTION:
URL:https://carousellounge.com/calendar/kirk-v-7/
LOCATION:Carousel Lounge\, 1110 E 52nd St.\, Austin\, TX\, 78704\, United States
END:VEVENT
BEGIN:VEVENT
DTSTART;TZID=America/Chicago:20260730T170000
DTEND;TZID=America/Chicago:20260730T190000
DTSTAMP:20260419T133706
CREATED:20251231T173508Z
LAST-MODIFIED:20251231T173637Z
UID:10000940-1785430800-1785438000@carousellounge.com
SUMMARY:Jahpa
DESCRIPTION:
URL:https://carousellounge.com/calendar/jahpa-13/
LOCATION:Carousel Lounge\, 1110 E 52nd St.\, Austin\, TX\, 78704\, United States
END:VEVENT
BEGIN:VEVENT
DTSTART;TZID=America/Chicago:20260805T170000
DTEND;TZID=America/Chicago:20260805T183000
DTSTAMP:20260419T133706
CREATED:20260406T023114Z
LAST-MODIFIED:20260406T023140Z
UID:10001080-1785949200-1785954600@carousellounge.com
SUMMARY:Peter Keane
DESCRIPTION:
URL:https://carousellounge.com/calendar/peter-keane-19/
LOCATION:Carousel Lounge\, 1110 E 52nd St.\, Austin\, TX\, 78704\, United States
END:VEVENT
BEGIN:VEVENT
DTSTART;TZID=America/Chicago:20260820T190000
DTEND;TZID=America/Chicago:20260820T210000
DTSTAMP:20260419T133706
CREATED:20260327T144951Z
LAST-MODIFIED:20260327T144951Z
UID:10001070-1787252400-1787259600@carousellounge.com
SUMMARY:String Theory Thursday w/Eric Hisaw
DESCRIPTION:
URL:https://carousellounge.com/calendar/string-theory-thursday-w-eric-hisaw-6/
LOCATION:Carousel Lounge\, 1110 E 52nd St.\, Austin\, TX\, 78704\, United States
END:VEVENT
BEGIN:VEVENT
DTSTART;TZID=America/Chicago:20260821T190000
DTEND;TZID=America/Chicago:20260821T210000
DTSTAMP:20260419T133706
CREATED:20260318T195816Z
LAST-MODIFIED:20260318T195903Z
UID:10001044-1787338800-1787346000@carousellounge.com
SUMMARY:Lisa Gamache & Banned for Life
DESCRIPTION:
URL:https://carousellounge.com/calendar/lisa-gamache-banned-for-life-7/
LOCATION:Carousel Lounge\, 1110 E 52nd St.\, Austin\, TX\, 78704\, United States
END:VEVENT
BEGIN:VEVENT
DTSTART;TZID=America/Chicago:20260827T170000
DTEND;TZID=America/Chicago:20260827T190000
DTSTAMP:20260419T133706
CREATED:20251231T173746Z
LAST-MODIFIED:20251231T173746Z
UID:10000941-1787850000-1787857200@carousellounge.com
SUMMARY:Jahpa
DESCRIPTION:
URL:https://carousellounge.com/calendar/jahpa-14/
LOCATION:Carousel Lounge\, 1110 E 52nd St.\, Austin\, TX\, 78704\, United States
END:VEVENT
BEGIN:VEVENT
DTSTART;TZID=America/Chicago:20260829T190000
DTEND;TZID=America/Chicago:20260829T210000
DTSTAMP:20260419T133706
CREATED:20260410T014445Z
LAST-MODIFIED:20260410T014445Z
UID:10001093-1788030000-1788037200@carousellounge.com
SUMMARY:Kirk V
DESCRIPTION:
URL:https://carousellounge.com/calendar/kirk-v-8/
LOCATION:Carousel Lounge\, 1110 E 52nd St.\, Austin\, TX\, 78704\, United States
END:VEVENT
BEGIN:VEVENT
DTSTART;TZID=America/Chicago:20260912T190000
DTEND;TZID=America/Chicago:20260913T010000
DTSTAMP:20260419T133706
CREATED:20260414T234822Z
LAST-MODIFIED:20260414T234822Z
UID:10001098-1789239600-1789261200@carousellounge.com
SUMMARY:HALFWITS 7pm\, The Rubicon Crossing 8pm\, Open Jam 9pm\, Stay At Home Cousin 11pm-1am (Cindy)
DESCRIPTION:
URL:https://carousellounge.com/calendar/halfwits-7pm-the-rubicon-crossing-8pm-open-jam-9pm-stay-at-home-cousin-11pm-1am-cindy/
LOCATION:Carousel Lounge\, 1110 E 52nd St.\, Austin\, TX\, 78704\, United States
END:VEVENT
BEGIN:VEVENT
DTSTART;TZID=America/Chicago:20260916T180000
DTEND;TZID=America/Chicago:20260916T190000
DTSTAMP:20260419T133706
CREATED:20260204T162310Z
LAST-MODIFIED:20260204T162310Z
UID:10001000-1789581600-1789585200@carousellounge.com
SUMMARY:Fletcher Daniel
DESCRIPTION:
URL:https://carousellounge.com/calendar/fletcher-daniel/
LOCATION:Carousel Lounge\, 1110 E 52nd St.\, Austin\, TX\, 78704\, United States
END:VEVENT
BEGIN:VEVENT
DTSTART;TZID=America/Chicago:20260917T190000
DTEND;TZID=America/Chicago:20260917T210000
DTSTAMP:20260419T133706
CREATED:20260327T143837Z
LAST-MODIFIED:20260327T143926Z
UID:10001065-1789671600-1789678800@carousellounge.com
SUMMARY:String Theory Thursday w/Eric Hisaw
DESCRIPTION:
URL:https://carousellounge.com/calendar/string-theory-thursday-w-eric-hisaw/
LOCATION:Carousel Lounge\, 1110 E 52nd St.\, Austin\, TX\, 78704\, United States
END:VEVENT
BEGIN:VEVENT
DTSTART;TZID=America/Chicago:20260918T190000
DTEND;TZID=America/Chicago:20260918T210000
DTSTAMP:20260419T133706
CREATED:20260318T201024Z
LAST-MODIFIED:20260318T201024Z
UID:10001050-1789758000-1789765200@carousellounge.com
SUMMARY:Lisa Gamache & Banned for Life
DESCRIPTION:
URL:https://carousellounge.com/calendar/lisa-gamache-banned-for-life-12/
LOCATION:Carousel Lounge\, 1110 E 52nd St.\, Austin\, TX\, 78704\, United States
END:VEVENT
BEGIN:VEVENT
DTSTART;TZID=America/Chicago:20260924T170000
DTEND;TZID=America/Chicago:20260924T190000
DTSTAMP:20260419T133706
CREATED:20251231T173927Z
LAST-MODIFIED:20251231T173927Z
UID:10000942-1790269200-1790276400@carousellounge.com
SUMMARY:Jahpa
DESCRIPTION:
URL:https://carousellounge.com/calendar/jahpa-15/
LOCATION:Carousel Lounge\, 1110 E 52nd St.\, Austin\, TX\, 78704\, United States
END:VEVENT
BEGIN:VEVENT
DTSTART;TZID=America/Chicago:20260926T190000
DTEND;TZID=America/Chicago:20260926T210000
DTSTAMP:20260419T133706
CREATED:20260410T014120Z
LAST-MODIFIED:20260410T014700Z
UID:10001091-1790449200-1790456400@carousellounge.com
SUMMARY:Kirk V
DESCRIPTION:
URL:https://carousellounge.com/calendar/kirk-v-6/
LOCATION:Carousel Lounge\, 1110 E 52nd St.\, Austin\, TX\, 78704\, United States
END:VEVENT
BEGIN:VEVENT
DTSTART;TZID=America/Chicago:20261016T190000
DTEND;TZID=America/Chicago:20261016T210000
DTSTAMP:20260419T133706
CREATED:20260318T202124Z
LAST-MODIFIED:20260318T202124Z
UID:10001054-1792177200-1792184400@carousellounge.com
SUMMARY:Lisa Gamache & Banned for Life
DESCRIPTION:
URL:https://carousellounge.com/calendar/lisa-gamache-banned-for-life-15/
LOCATION:Carousel Lounge\, 1110 E 52nd St.\, Austin\, TX\, 78704\, United States
END:VEVENT
BEGIN:VEVENT
DTSTART;TZID=America/Chicago:20261017T190000
DTEND;TZID=America/Chicago:20261018T010000
DTSTAMP:20260419T133706
CREATED:20260415T001824Z
LAST-MODIFIED:20260415T002139Z
UID:10001099-1792263600-1792285200@carousellounge.com
SUMMARY:Angie Rock & Roll Circus 7pm-1am
DESCRIPTION:
URL:https://carousellounge.com/calendar/angie-rock-roll-circus-7pm-1am/
LOCATION:Carousel Lounge\, 1110 E 52nd St.\, Austin\, TX\, 78704\, United States
END:VEVENT
BEGIN:VEVENT
DTSTART;TZID=America/Chicago:20261024T190000
DTEND;TZID=America/Chicago:20261024T210000
DTSTAMP:20260419T133706
CREATED:20260410T013534Z
LAST-MODIFIED:20260410T013725Z
UID:10001087-1792868400-1792875600@carousellounge.com
SUMMARY:Kirk V
DESCRIPTION:
URL:https://carousellounge.com/calendar/kirk-v-2/
LOCATION:Carousel Lounge\, 1110 E 52nd St.\, Austin\, TX\, 78704\, United States
END:VEVENT
BEGIN:VEVENT
DTSTART;TZID=America/Chicago:20261029T170000
DTEND;TZID=America/Chicago:20261029T190000
DTSTAMP:20260419T133706
CREATED:20251231T174051Z
LAST-MODIFIED:20251231T174118Z
UID:10000943-1793293200-1793300400@carousellounge.com
SUMMARY:Jahpa
DESCRIPTION:
URL:https://carousellounge.com/calendar/jahpa-16/
LOCATION:Carousel Lounge\, 1110 E 52nd St.\, Austin\, TX\, 78704\, United States
END:VEVENT
BEGIN:VEVENT
DTSTART;TZID=America/Chicago:20261118T190000
DTEND;TZID=America/Chicago:20261118T220000
DTSTAMP:20260419T133706
CREATED:20260214T174142Z
LAST-MODIFIED:20260214T174142Z
UID:10001012-1795028400-1795039200@carousellounge.com
SUMMARY:Collin Donley\, Cory Waller & The Wicked Things
DESCRIPTION:
URL:https://carousellounge.com/calendar/collin-donley-cory-waller-the-wicked-things/
LOCATION:Carousel Lounge\, 1110 E 52nd St.\, Austin\, TX\, 78704\, United States
END:VEVENT
BEGIN:VEVENT
DTSTART;TZID=America/Chicago:20261120T190000
DTEND;TZID=America/Chicago:20261120T210000
DTSTAMP:20260419T133706
CREATED:20260318T202210Z
LAST-MODIFIED:20260318T202210Z
UID:10001055-1795201200-1795208400@carousellounge.com
SUMMARY:Lisa Gamache & Banned for Life
DESCRIPTION:
URL:https://carousellounge.com/calendar/lisa-gamache-banned-for-life-16/
LOCATION:Carousel Lounge\, 1110 E 52nd St.\, Austin\, TX\, 78704\, United States
END:VEVENT
END:VCALENDAR