BEGIN:VCALENDAR
VERSION:2.0
PRODID:-//Carousel Lounge - ECPv6.15.20//NONSGML v1.0//EN
CALSCALE:GREGORIAN
METHOD:PUBLISH
X-WR-CALNAME:Carousel Lounge
X-ORIGINAL-URL:https://carousellounge.com
X-WR-CALDESC:Events for Carousel Lounge
REFRESH-INTERVAL;VALUE=DURATION:PT1H
X-Robots-Tag:noindex
X-PUBLISHED-TTL:PT1H
BEGIN:VTIMEZONE
TZID:America/Chicago
BEGIN:DAYLIGHT
TZOFFSETFROM:-0600
TZOFFSETTO:-0500
TZNAME:CDT
DTSTART:20250309T080000
END:DAYLIGHT
BEGIN:STANDARD
TZOFFSETFROM:-0500
TZOFFSETTO:-0600
TZNAME:CST
DTSTART:20251102T070000
END:STANDARD
BEGIN:DAYLIGHT
TZOFFSETFROM:-0600
TZOFFSETTO:-0500
TZNAME:CDT
DTSTART:20260308T080000
END:DAYLIGHT
BEGIN:STANDARD
TZOFFSETFROM:-0500
TZOFFSETTO:-0600
TZNAME:CST
DTSTART:20261101T070000
END:STANDARD
BEGIN:DAYLIGHT
TZOFFSETFROM:-0600
TZOFFSETTO:-0500
TZNAME:CDT
DTSTART:20270314T080000
END:DAYLIGHT
BEGIN:STANDARD
TZOFFSETFROM:-0500
TZOFFSETTO:-0600
TZNAME:CST
DTSTART:20271107T070000
END:STANDARD
END:VTIMEZONE
BEGIN:VEVENT
DTSTART;TZID=America/Chicago:20260205T190000
DTEND;TZID=America/Chicago:20260205T210000
DTSTAMP:20260419T174055
CREATED:20251214T034434Z
LAST-MODIFIED:20260106T034235Z
UID:10000903-1770318000-1770325200@carousellounge.com
SUMMARY:Decorating 7pm\, Retail Giant 8pm-9pm.
DESCRIPTION:
URL:https://carousellounge.com/calendar/decorating-7pm-retail-giantto-confirm-8pm/
LOCATION:Carousel Lounge\, 1110 E 52nd St.\, Austin\, TX\, 78704\, United States
END:VEVENT
BEGIN:VEVENT
DTSTART;TZID=America/Chicago:20260204T190000
DTEND;TZID=America/Chicago:20260204T210000
DTSTAMP:20260419T174055
CREATED:20260108T182415Z
LAST-MODIFIED:20260108T182415Z
UID:10000950-1770231600-1770238800@carousellounge.com
SUMMARY:Soulphonics 7-9pm
DESCRIPTION:
URL:https://carousellounge.com/calendar/soulphonics-7-9pm-2/
LOCATION:Carousel Lounge\, 1110 E 52nd St.\, Austin\, TX\, 78704\, United States
END:VEVENT
BEGIN:VEVENT
DTSTART;TZID=America/Chicago:20260204T170000
DTEND;TZID=America/Chicago:20260204T183000
DTSTAMP:20260419T174055
CREATED:20251206T001105Z
LAST-MODIFIED:20251206T001131Z
UID:10000898-1770224400-1770229800@carousellounge.com
SUMMARY:Peter Keane
DESCRIPTION:
URL:https://carousellounge.com/calendar/peter-keane-14/
LOCATION:Carousel Lounge\, 1110 E 52nd St.\, Austin\, TX\, 78704\, United States
END:VEVENT
BEGIN:VEVENT
DTSTART;TZID=America/Chicago:20260131T210000
DTEND;TZID=America/Chicago:20260201T010000
DTSTAMP:20260419T174055
CREATED:20250904T030020Z
LAST-MODIFIED:20251219T041859Z
UID:10000755-1769893200-1769907600@carousellounge.com
SUMMARY:Late Joys 9-11pm plus other bands 11-1am (Robi)
DESCRIPTION:
URL:https://carousellounge.com/calendar/late-joys-extravaganza-w-bands-robi/
LOCATION:Carousel Lounge\, 1110 E 52nd St.\, Austin\, TX\, 78704\, United States
END:VEVENT
BEGIN:VEVENT
DTSTART;TZID=America/Chicago:20260131T180000
DTEND;TZID=America/Chicago:20260131T210000
DTSTAMP:20260419T174055
CREATED:20251216T044121Z
LAST-MODIFIED:20251216T044121Z
UID:10000909-1769882400-1769893200@carousellounge.com
SUMMARY:Jesse Garcia lineup 6-9pm
DESCRIPTION:
URL:https://carousellounge.com/calendar/jesse-garcia-lineup-6-9pm/
LOCATION:Carousel Lounge\, 1110 E 52nd St.\, Austin\, TX\, 78704\, United States
END:VEVENT
BEGIN:VEVENT
DTSTART;TZID=America/Chicago:20260130T190000
DTEND;TZID=America/Chicago:20260131T000000
DTSTAMP:20260419T174055
CREATED:20251205T033139Z
LAST-MODIFIED:20251227T182045Z
UID:10000895-1769799600-1769817600@carousellounge.com
SUMMARY:Wilfred Brimley's Secret Pickle 7:15\, Disensemble 8:15\, Quiness 9:15\, Slothful Induction 10:15\, Aurora Plastics Co. 11:15-12am (A. Heller)
DESCRIPTION:
URL:https://carousellounge.com/calendar/anne-heller-event-lineup-coming/
LOCATION:Carousel Lounge\, 1110 E 52nd St.\, Austin\, TX\, 78704\, United States
END:VEVENT
BEGIN:VEVENT
DTSTART;TZID=America/Chicago:20260129T190000
DTEND;TZID=America/Chicago:20260129T210000
DTSTAMP:20260419T174055
CREATED:20260110T163106Z
LAST-MODIFIED:20260110T163106Z
UID:10000954-1769713200-1769720400@carousellounge.com
SUMMARY:Tony Frische 7pm\, Gwen McMillin 8-9pm (Rand)
DESCRIPTION:
URL:https://carousellounge.com/calendar/tony-frische-7pm-gwen-mcmillin-8-9pm-rand/
LOCATION:Carousel Lounge\, 1110 E 52nd St.\, Austin\, TX\, 78704\, United States
END:VEVENT
BEGIN:VEVENT
DTSTART;TZID=America/Chicago:20260129T170000
DTEND;TZID=America/Chicago:20260129T190000
DTSTAMP:20260419T174055
CREATED:20251231T171326Z
LAST-MODIFIED:20251231T171326Z
UID:10000932-1769706000-1769713200@carousellounge.com
SUMMARY:Jahpa
DESCRIPTION:
URL:https://carousellounge.com/calendar/jahpa-5/
LOCATION:Carousel Lounge\, 1110 E 52nd St.\, Austin\, TX\, 78704\, United States
END:VEVENT
BEGIN:VEVENT
DTSTART;TZID=America/Chicago:20260128T190000
DTEND;TZID=America/Chicago:20260128T210000
DTSTAMP:20260419T174055
CREATED:20251229T024128Z
LAST-MODIFIED:20251229T024943Z
UID:10000925-1769626800-1769634000@carousellounge.com
SUMMARY:Admiral Sound 7pm\, Dark Starlings 8-9pm (Lo)
DESCRIPTION:Dark
URL:https://carousellounge.com/calendar/admiral-sound-7pm-dark-starlings-8-9pm/
LOCATION:Carousel Lounge\, 1110 E 52nd St.\, Austin\, TX\, 78704\, United States
END:VEVENT
BEGIN:VEVENT
DTSTART;TZID=America/Chicago:20260124T200000
DTEND;TZID=America/Chicago:20260125T010000
DTSTAMP:20260419T174055
CREATED:20250928T041236Z
LAST-MODIFIED:20250928T041236Z
UID:10000787-1769284800-1769302800@carousellounge.com
SUMMARY:Ted Roddy 8pm\, Ugly Beats 10pm (Shaun Shirazi)
DESCRIPTION:
URL:https://carousellounge.com/calendar/ted-roddy-8pm-ugly-beats-10pm-shaun-shirazi/
LOCATION:Carousel Lounge\, 1110 E 52nd St.\, Austin\, TX\, 78704\, United States
END:VEVENT
BEGIN:VEVENT
DTSTART;TZID=America/Chicago:20260124T160000
DTEND;TZID=America/Chicago:20260124T180000
DTSTAMP:20260419T174055
CREATED:20251227T184757Z
LAST-MODIFIED:20251227T184757Z
UID:10000923-1769270400-1769277600@carousellounge.com
SUMMARY:The Schoolmen
DESCRIPTION:
URL:https://carousellounge.com/calendar/the-schoolmen/
LOCATION:Carousel Lounge\, 1110 E 52nd St.\, Austin\, TX\, 78704\, United States
END:VEVENT
BEGIN:VEVENT
DTSTART;TZID=America/Chicago:20260123T210000
DTEND;TZID=America/Chicago:20260124T000000
DTSTAMP:20260419T174055
CREATED:20251130T202621Z
LAST-MODIFIED:20251223T215224Z
UID:10000879-1769202000-1769212800@carousellounge.com
SUMMARY:Spiral 9pm\, Thee Ancient Asses 10pm\, King Bunny 11-midnite (Jon H)
DESCRIPTION:
URL:https://carousellounge.com/calendar/the-ancient-asses-another-band-or-2-jon-h/
LOCATION:Carousel Lounge\, 1110 E 52nd St.\, Austin\, TX\, 78704\, United States
END:VEVENT
BEGIN:VEVENT
DTSTART;TZID=America/Chicago:20260123T190000
DTEND;TZID=America/Chicago:20260123T210000
DTSTAMP:20260419T174055
CREATED:20251122T181339Z
LAST-MODIFIED:20251122T181339Z
UID:10000856-1769194800-1769202000@carousellounge.com
SUMMARY:Variety Jones
DESCRIPTION:
URL:https://carousellounge.com/calendar/variety-jones-32/
LOCATION:Carousel Lounge\, 1110 E 52nd St.\, Austin\, TX\, 78704\, United States
END:VEVENT
BEGIN:VEVENT
DTSTART;TZID=America/Chicago:20260123T170000
DTEND;TZID=America/Chicago:20260123T190000
DTSTAMP:20260419T174055
CREATED:20251108T180148Z
LAST-MODIFIED:20251108T180148Z
UID:10000827-1769187600-1769194800@carousellounge.com
SUMMARY:Allan Gill
DESCRIPTION:
URL:https://carousellounge.com/calendar/allan-gill-41/
LOCATION:Carousel Lounge\, 1110 E 52nd St.\, Austin\, TX\, 78704\, United States
END:VEVENT
BEGIN:VEVENT
DTSTART;TZID=America/Chicago:20260122T190000
DTEND;TZID=America/Chicago:20260122T210000
DTSTAMP:20260419T174055
CREATED:20251202T164602Z
LAST-MODIFIED:20251202T171146Z
UID:10000883-1769108400-1769115600@carousellounge.com
SUMMARY:Black Shale (Zachary)
DESCRIPTION:
URL:https://carousellounge.com/calendar/black-shale-zachary/
LOCATION:Carousel Lounge\, 1110 E 52nd St.\, Austin\, TX\, 78704\, United States
END:VEVENT
BEGIN:VEVENT
DTSTART;TZID=America/Chicago:20260122T170000
DTEND;TZID=America/Chicago:20260122T190000
DTSTAMP:20260419T174055
CREATED:20251229T030135Z
LAST-MODIFIED:20251229T030135Z
UID:10000927-1769101200-1769108400@carousellounge.com
SUMMARY:Jess Ledbetter
DESCRIPTION:
URL:https://carousellounge.com/calendar/jess-ledbetter/
LOCATION:Carousel Lounge\, 1110 E 52nd St.\, Austin\, TX\, 78704\, United States
END:VEVENT
BEGIN:VEVENT
DTSTART;TZID=America/Chicago:20260121T190000
DTEND;TZID=America/Chicago:20260121T210000
DTSTAMP:20260419T174055
CREATED:20260118T022607Z
LAST-MODIFIED:20260118T174837Z
UID:10000966-1769022000-1769029200@carousellounge.com
SUMMARY:Gerard Burkhart 7pm\, Nate Harris 8-9pm
DESCRIPTION:
URL:https://carousellounge.com/calendar/gerard-burkhart-7pm-nate-harris-8-9pm/
LOCATION:Carousel Lounge\, 1110 E 52nd St.\, Austin\, TX\, 78704\, United States
END:VEVENT
BEGIN:VEVENT
DTSTART;TZID=America/Chicago:20260117T210000
DTEND;TZID=America/Chicago:20260118T010000
DTSTAMP:20260419T174055
CREATED:20251129T174847Z
LAST-MODIFIED:20251211T191952Z
UID:10000878-1768683600-1768698000@carousellounge.com
SUMMARY:THC Trio\, Trio Glossia\, TCH Glossia Trio (Lisa C) 9pm-1am
DESCRIPTION:
URL:https://carousellounge.com/calendar/thc-trio-trio-glossia-lisa-c-9pm-1am/
LOCATION:Carousel Lounge\, 1110 E 52nd St.\, Austin\, TX\, 78704\, United States
END:VEVENT
BEGIN:VEVENT
DTSTART;TZID=America/Chicago:20260117T200000
DTEND;TZID=America/Chicago:20260117T204500
DTSTAMP:20260419T174055
CREATED:20251202T024248Z
LAST-MODIFIED:20251202T024248Z
UID:10000880-1768680000-1768682700@carousellounge.com
SUMMARY:Bellydancers 8-8:45pm
DESCRIPTION:
URL:https://carousellounge.com/calendar/bellydancers-8-845pm/
LOCATION:Carousel Lounge\, 1110 E 52nd St.\, Austin\, TX\, 78704\, United States
END:VEVENT
BEGIN:VEVENT
DTSTART;TZID=America/Chicago:20260117T190000
DTEND;TZID=America/Chicago:20260117T194500
DTSTAMP:20260419T174055
CREATED:20251209T051509Z
LAST-MODIFIED:20251209T051538Z
UID:10000901-1768676400-1768679100@carousellounge.com
SUMMARY:Nematoads
DESCRIPTION:
URL:https://carousellounge.com/calendar/nematoades/
LOCATION:Carousel Lounge\, 1110 E 52nd St.\, Austin\, TX\, 78704\, United States
END:VEVENT
BEGIN:VEVENT
DTSTART;TZID=America/Chicago:20260117T170000
DTEND;TZID=America/Chicago:20260117T190000
DTSTAMP:20260419T174055
CREATED:20251202T024412Z
LAST-MODIFIED:20251202T024412Z
UID:10000881-1768669200-1768676400@carousellounge.com
SUMMARY:Jane Rundquist & Too Blue 5-7pm
DESCRIPTION:
URL:https://carousellounge.com/calendar/jane-rundquist-too-blue-5-7pm/
LOCATION:Carousel Lounge\, 1110 E 52nd St.\, Austin\, TX\, 78704\, United States
END:VEVENT
BEGIN:VEVENT
DTSTART;TZID=America/Chicago:20260116T210000
DTEND;TZID=America/Chicago:20260117T000000
DTSTAMP:20260419T174055
CREATED:20251119T043815Z
LAST-MODIFIED:20251119T044137Z
UID:10000844-1768597200-1768608000@carousellounge.com
SUMMARY:Midnight (Socitary Witch) (Rand)
DESCRIPTION:
URL:https://carousellounge.com/calendar/midnight-socitary-witch/
LOCATION:Carousel Lounge\, 1110 E 52nd St.\, Austin\, TX\, 78704\, United States
END:VEVENT
BEGIN:VEVENT
DTSTART;TZID=America/Chicago:20260116T190000
DTEND;TZID=America/Chicago:20260116T210000
DTSTAMP:20260419T174055
CREATED:20251126T025741Z
LAST-MODIFIED:20251126T025741Z
UID:10000874-1768590000-1768597200@carousellounge.com
SUMMARY:Lisa Gamache & Banned for Life
DESCRIPTION:
URL:https://carousellounge.com/calendar/lisa-gamache-banned-for-life-3/
LOCATION:Carousel Lounge\, 1110 E 52nd St.\, Austin\, TX\, 78704\, United States
END:VEVENT
BEGIN:VEVENT
DTSTART;TZID=America/Chicago:20260115T190000
DTEND;TZID=America/Chicago:20260115T210000
DTSTAMP:20260419T174055
CREATED:20251203T225507Z
LAST-MODIFIED:20251203T225940Z
UID:10000893-1768503600-1768510800@carousellounge.com
SUMMARY:Sparkle Ponies Jazz Night
DESCRIPTION:
URL:https://carousellounge.com/calendar/sparkle-ponies-jazz-night/
LOCATION:Carousel Lounge\, 1110 E 52nd St.\, Austin\, TX\, 78704\, United States
END:VEVENT
BEGIN:VEVENT
DTSTART;TZID=America/Chicago:20260114T190000
DTEND;TZID=America/Chicago:20260114T210000
DTSTAMP:20260419T174055
CREATED:20251203T013823Z
LAST-MODIFIED:20251203T013823Z
UID:10000886-1768417200-1768424400@carousellounge.com
SUMMARY:S. Souls 7pm\, Pursue 8-9pm
DESCRIPTION:
URL:https://carousellounge.com/calendar/s-souls-7pm-pursue-8-9pm/
LOCATION:Carousel Lounge\, 1110 E 52nd St.\, Austin\, TX\, 78704\, United States
END:VEVENT
BEGIN:VEVENT
DTSTART;TZID=America/Chicago:20260110T210000
DTEND;TZID=America/Chicago:20260110T230000
DTSTAMP:20260419T174055
CREATED:20251230T023705Z
LAST-MODIFIED:20251230T023958Z
UID:10000929-1768078800-1768086000@carousellounge.com
SUMMARY:South Austin Pop Collective
DESCRIPTION:
URL:https://carousellounge.com/calendar/south-austin-pop-collective-3/
LOCATION:Carousel Lounge\, 1110 E 52nd St.\, Austin\, TX\, 78704\, United States
END:VEVENT
BEGIN:VEVENT
DTSTART;TZID=America/Chicago:20260110T190000
DTEND;TZID=America/Chicago:20260110T210000
DTSTAMP:20260419T174055
CREATED:20251125T183433Z
LAST-MODIFIED:20251125T183433Z
UID:10000870-1768071600-1768078800@carousellounge.com
SUMMARY:Straight Ahead
DESCRIPTION:
URL:https://carousellounge.com/calendar/straight-ahead-6/
LOCATION:Carousel Lounge\, 1110 E 52nd St.\, Austin\, TX\, 78704\, United States
END:VEVENT
BEGIN:VEVENT
DTSTART;TZID=America/Chicago:20260109T213000
DTEND;TZID=America/Chicago:20260110T000000
DTSTAMP:20260419T174055
CREATED:20251119T224441Z
LAST-MODIFIED:20251214T193154Z
UID:10000846-1767994200-1768003200@carousellounge.com
SUMMARY:Coffee Sergeants 9:30-10:30pm\, Daily Worker 11pm-midnite
DESCRIPTION:
URL:https://carousellounge.com/calendar/coffee-sergeants-9-11pm/
LOCATION:Carousel Lounge\, 1110 E 52nd St.\, Austin\, TX\, 78704\, United States
END:VEVENT
BEGIN:VEVENT
DTSTART;TZID=America/Chicago:20260109T190000
DTEND;TZID=America/Chicago:20260109T210000
DTSTAMP:20260419T174055
CREATED:20251119T223939Z
LAST-MODIFIED:20251119T223939Z
UID:10000845-1767985200-1767992400@carousellounge.com
SUMMARY:Rich Hopkins & the Luminarios
DESCRIPTION:
URL:https://carousellounge.com/calendar/rich-hopkins-the-luminarios/
LOCATION:Carousel Lounge\, 1110 E 52nd St.\, Austin\, TX\, 78704\, United States
END:VEVENT
BEGIN:VEVENT
DTSTART;TZID=America/Chicago:20260109T170000
DTEND;TZID=America/Chicago:20260109T190000
DTSTAMP:20260419T174055
CREATED:20251108T180015Z
LAST-MODIFIED:20251108T180015Z
UID:10000826-1767978000-1767985200@carousellounge.com
SUMMARY:Allan Gill
DESCRIPTION:
URL:https://carousellounge.com/calendar/allan-gill-35/
LOCATION:Carousel Lounge\, 1110 E 52nd St.\, Austin\, TX\, 78704\, United States
END:VEVENT
END:VCALENDAR