BEGIN:VCALENDAR
VERSION:2.0
PRODID:-//Carousel Lounge - ECPv6.15.20//NONSGML v1.0//EN
CALSCALE:GREGORIAN
METHOD:PUBLISH
X-ORIGINAL-URL:https://carousellounge.com
X-WR-CALDESC:Events for Carousel Lounge
REFRESH-INTERVAL;VALUE=DURATION:PT1H
X-Robots-Tag:noindex
X-PUBLISHED-TTL:PT1H
BEGIN:VTIMEZONE
TZID:America/Chicago
BEGIN:DAYLIGHT
TZOFFSETFROM:-0600
TZOFFSETTO:-0500
TZNAME:CDT
DTSTART:20250309T080000
END:DAYLIGHT
BEGIN:STANDARD
TZOFFSETFROM:-0500
TZOFFSETTO:-0600
TZNAME:CST
DTSTART:20251102T070000
END:STANDARD
BEGIN:DAYLIGHT
TZOFFSETFROM:-0600
TZOFFSETTO:-0500
TZNAME:CDT
DTSTART:20260308T080000
END:DAYLIGHT
BEGIN:STANDARD
TZOFFSETFROM:-0500
TZOFFSETTO:-0600
TZNAME:CST
DTSTART:20261101T070000
END:STANDARD
BEGIN:DAYLIGHT
TZOFFSETFROM:-0600
TZOFFSETTO:-0500
TZNAME:CDT
DTSTART:20270314T080000
END:DAYLIGHT
BEGIN:STANDARD
TZOFFSETFROM:-0500
TZOFFSETTO:-0600
TZNAME:CST
DTSTART:20271107T070000
END:STANDARD
END:VTIMEZONE
BEGIN:VEVENT
DTSTART;TZID=America/Chicago:20260319T170000
DTEND;TZID=America/Chicago:20260319T190000
DTSTAMP:20260419T151004
CREATED:20260113T195038Z
LAST-MODIFIED:20260113T195038Z
UID:10000963-1773939600-1773946800@carousellounge.com
SUMMARY:Your Jack (Sam H)
DESCRIPTION:
URL:https://carousellounge.com/calendar/your-jack-sam-h/
LOCATION:Carousel Lounge\, 1110 E 52nd St.\, Austin\, TX\, 78704\, United States
END:VEVENT
BEGIN:VEVENT
DTSTART;TZID=America/Chicago:20260319T190000
DTEND;TZID=America/Chicago:20260319T210000
DTSTAMP:20260419T151004
CREATED:20260227T024132Z
LAST-MODIFIED:20260227T024328Z
UID:10001032-1773946800-1773954000@carousellounge.com
SUMMARY:MaJo G (S Goldwinners)
DESCRIPTION:
URL:https://carousellounge.com/calendar/majo-g-s-goldwinners/
LOCATION:Carousel Lounge\, 1110 E 52nd St.\, Austin\, TX\, 78704\, United States
END:VEVENT
BEGIN:VEVENT
DTSTART;TZID=America/Chicago:20260319T210000
DTEND;TZID=America/Chicago:20260320T000000
DTSTAMP:20260419T151004
CREATED:20260310T171544Z
LAST-MODIFIED:20260314T225812Z
UID:10001039-1773954000-1773964800@carousellounge.com
SUMMARY:Tony Frische 9pm\, Josh Lincoln 10:30pm\, Rosewood Lincoln 11:15-midnite (Rand Ramos) 9-mid
DESCRIPTION:
URL:https://carousellounge.com/calendar/rand-ramos-lineup-9-mid/
LOCATION:Carousel Lounge\, 1110 E 52nd St.\, Austin\, TX\, 78704\, United States
END:VEVENT
BEGIN:VEVENT
DTSTART;TZID=America/Chicago:20260320T170000
DTEND;TZID=America/Chicago:20260320T190000
DTSTAMP:20260419T151004
CREATED:20260128T192039Z
LAST-MODIFIED:20260128T192103Z
UID:10000985-1774026000-1774033200@carousellounge.com
SUMMARY:Allan Gill
DESCRIPTION:
URL:https://carousellounge.com/calendar/allan-gill-44/
LOCATION:Carousel Lounge\, 1110 E 52nd St.\, Austin\, TX\, 78704\, United States
END:VEVENT
BEGIN:VEVENT
DTSTART;TZID=America/Chicago:20260320T190000
DTEND;TZID=America/Chicago:20260320T210000
DTSTAMP:20260419T151004
CREATED:20260220T001430Z
LAST-MODIFIED:20260220T001430Z
UID:10001024-1774033200-1774040400@carousellounge.com
SUMMARY:Jenny & The Bird 7pm-7:30\, The Chicken Boys 7:40-9pm
DESCRIPTION:
URL:https://carousellounge.com/calendar/jenny-the-bird-7pm-730-the-chicken-boys-740-9pm/
LOCATION:Carousel Lounge\, 1110 E 52nd St.\, Austin\, TX\, 78704\, United States
END:VEVENT
BEGIN:VEVENT
DTSTART;TZID=America/Chicago:20260321T170000
DTEND;TZID=America/Chicago:20260321T190000
DTSTAMP:20260419T151004
CREATED:20260214T032411Z
LAST-MODIFIED:20260214T033007Z
UID:10001011-1774112400-1774119600@carousellounge.com
SUMMARY:W157 (Payton)
DESCRIPTION:
URL:https://carousellounge.com/calendar/w157/
LOCATION:Carousel Lounge\, 1110 E 52nd St.\, Austin\, TX\, 78704\, United States
END:VEVENT
BEGIN:VEVENT
DTSTART;TZID=America/Chicago:20260321T200000
DTEND;TZID=America/Chicago:20260321T204500
DTSTAMP:20260419T151004
CREATED:20260227T021932Z
LAST-MODIFIED:20260227T021932Z
UID:10001029-1774123200-1774125900@carousellounge.com
SUMMARY:Bellydancers
DESCRIPTION:
URL:https://carousellounge.com/calendar/bellydancers-14/
LOCATION:Carousel Lounge\, 1110 E 52nd St.\, Austin\, TX\, 78704\, United States
END:VEVENT
BEGIN:VEVENT
DTSTART;TZID=America/Chicago:20260321T210000
DTEND;TZID=America/Chicago:20260322T010000
DTSTAMP:20260419T151004
CREATED:20260113T031250Z
LAST-MODIFIED:20260319T030632Z
UID:10000959-1774126800-1774141200@carousellounge.com
SUMMARY:"Big Star's #1 Live" (S. Hickman) 9-1am
DESCRIPTION:
URL:https://carousellounge.com/calendar/scot-hickman-lineup-9-1am/
LOCATION:Carousel Lounge\, 1110 E 52nd St.\, Austin\, TX\, 78704\, United States
END:VEVENT
BEGIN:VEVENT
DTSTART;TZID=America/Chicago:20260325T180000
DTEND;TZID=America/Chicago:20260325T190000
DTSTAMP:20260419T151004
CREATED:20260303T185731Z
LAST-MODIFIED:20260303T190021Z
UID:10001036-1774461600-1774465200@carousellounge.com
SUMMARY:Big Cat Attack
DESCRIPTION:
URL:https://carousellounge.com/calendar/big-cat-attaack/
LOCATION:Carousel Lounge\, 1110 E 52nd St.\, Austin\, TX\, 78704\, United States
END:VEVENT
BEGIN:VEVENT
DTSTART;TZID=America/Chicago:20260325T190000
DTEND;TZID=America/Chicago:20260326T000000
DTSTAMP:20260419T151004
CREATED:20260128T030954Z
LAST-MODIFIED:20260303T185806Z
UID:10000984-1774465200-1774483200@carousellounge.com
SUMMARY:Velvet Lab 7pm\, Rubicon Crossing 8pm\, Open Jam Session 9:30pm-midnite
DESCRIPTION:
URL:https://carousellounge.com/calendar/velvet-lab-7pm-rubicon-crossing-8pm-open-jam-session-930pm-midnite-to-confirm/
LOCATION:Carousel Lounge\, 1110 E 52nd St.\, Austin\, TX\, 78704\, United States
END:VEVENT
BEGIN:VEVENT
DTSTART;TZID=America/Chicago:20260326T170000
DTEND;TZID=America/Chicago:20260326T190000
DTSTAMP:20260419T151004
CREATED:20251231T173226Z
LAST-MODIFIED:20251231T173226Z
UID:10000938-1774544400-1774551600@carousellounge.com
SUMMARY:Jahpa
DESCRIPTION:
URL:https://carousellounge.com/calendar/jahpa-11/
LOCATION:Carousel Lounge\, 1110 E 52nd St.\, Austin\, TX\, 78704\, United States
END:VEVENT
BEGIN:VEVENT
DTSTART;TZID=America/Chicago:20260326T190000
DTEND;TZID=America/Chicago:20260326T210000
DTSTAMP:20260419T151004
CREATED:20260304T035031Z
LAST-MODIFIED:20260304T035031Z
UID:10001038-1774551600-1774558800@carousellounge.com
SUMMARY:Dancy Street
DESCRIPTION:
URL:https://carousellounge.com/calendar/dancy-street/
LOCATION:Carousel Lounge\, 1110 E 52nd St.\, Austin\, TX\, 78704\, United States
END:VEVENT
BEGIN:VEVENT
DTSTART;TZID=America/Chicago:20260326T210000
DTEND;TZID=America/Chicago:20260327T000000
DTSTAMP:20260419T151004
CREATED:20260210T175310Z
LAST-MODIFIED:20260210T175310Z
UID:10001010-1774558800-1774569600@carousellounge.com
SUMMARY:Sleeping Beast\, The Lodestones (from San Francisco) Lisa C.
DESCRIPTION:
URL:https://carousellounge.com/calendar/sleeping-beast-the-lodestones-from-san-francisco-lisa-c-2/
LOCATION:Carousel Lounge\, 1110 E 52nd St.\, Austin\, TX\, 78704\, United States
END:VEVENT
BEGIN:VEVENT
DTSTART;TZID=America/Chicago:20260327T190000
DTEND;TZID=America/Chicago:20260327T210000
DTSTAMP:20260419T151004
CREATED:20251122T182911Z
LAST-MODIFIED:20251122T182911Z
UID:10000862-1774638000-1774645200@carousellounge.com
SUMMARY:Variety Jones
DESCRIPTION:
URL:https://carousellounge.com/calendar/variety-jones-36/
LOCATION:Carousel Lounge\, 1110 E 52nd St.\, Austin\, TX\, 78704\, United States
END:VEVENT
BEGIN:VEVENT
DTSTART;TZID=America/Chicago:20260327T210000
DTEND;TZID=America/Chicago:20260328T000000
DTSTAMP:20260419T151004
CREATED:20260218T015413Z
LAST-MODIFIED:20260218T015413Z
UID:10001021-1774645200-1774656000@carousellounge.com
SUMMARY:Elastic Cactus\, Constellation & another band
DESCRIPTION:
URL:https://carousellounge.com/calendar/elastic-cactus-constellation-another-band/
LOCATION:Carousel Lounge\, 1110 E 52nd St.\, Austin\, TX\, 78704\, United States
END:VEVENT
BEGIN:VEVENT
DTSTART;TZID=America/Chicago:20260328T170000
DTEND;TZID=America/Chicago:20260328T190000
DTSTAMP:20260419T151004
CREATED:20260118T032003Z
LAST-MODIFIED:20260118T032003Z
UID:10000968-1774717200-1774724400@carousellounge.com
SUMMARY:Kirk V
DESCRIPTION:
URL:https://carousellounge.com/calendar/kirk-v/
LOCATION:Carousel Lounge\, 1110 E 52nd St.\, Austin\, TX\, 78704\, United States
END:VEVENT
BEGIN:VEVENT
DTSTART;TZID=America/Chicago:20260328T190000
DTEND;TZID=America/Chicago:20260328T210000
DTSTAMP:20260419T151004
CREATED:20260123T033717Z
LAST-MODIFIED:20260129T030352Z
UID:10000978-1774724400-1774731600@carousellounge.com
SUMMARY:Short Divide 7pm\, Its Over 8-9pm (Jon)
DESCRIPTION:
URL:https://carousellounge.com/calendar/short-divide-7-9pm-jon-to-confirm/
LOCATION:Carousel Lounge\, 1110 E 52nd St.\, Austin\, TX\, 78704\, United States
END:VEVENT
BEGIN:VEVENT
DTSTART;TZID=America/Chicago:20260328T210000
DTEND;TZID=America/Chicago:20260329T010000
DTSTAMP:20260419T151004
CREATED:20260227T023241Z
LAST-MODIFIED:20260304T223758Z
UID:10001030-1774731600-1774746000@carousellounge.com
SUMMARY:Aqua Specter 9pm\, Blockedoneverything 9:45pm\, Termin8er 10:30pm\, Cueva 11:30pm\, Jimmy V 12:15-1am
DESCRIPTION:
URL:https://carousellounge.com/calendar/termina8ter-another-band-or-2/
LOCATION:Carousel Lounge\, 1110 E 52nd St.\, Austin\, TX\, 78704\, United States
END:VEVENT
BEGIN:VEVENT
DTSTART;TZID=America/Chicago:20260401T170000
DTEND;TZID=America/Chicago:20260401T210000
DTSTAMP:20260419T151004
CREATED:20260108T183050Z
LAST-MODIFIED:20260108T183050Z
UID:10000953-1775062800-1775077200@carousellounge.com
SUMMARY:Peter Keane 5-6:30pm\, Soulphonics 7-9pm
DESCRIPTION:
URL:https://carousellounge.com/calendar/peter-keane-5-630pm-soulphonics-7-9pm/
LOCATION:Carousel Lounge\, 1110 E 52nd St.\, Austin\, TX\, 78704\, United States
END:VEVENT
BEGIN:VEVENT
DTSTART;TZID=America/Chicago:20260402T170000
DTEND;TZID=America/Chicago:20260402T190000
DTSTAMP:20260419T151004
CREATED:20260218T021514Z
LAST-MODIFIED:20260218T021538Z
UID:10001023-1775149200-1775156400@carousellounge.com
SUMMARY:The Schoolmen
DESCRIPTION:
URL:https://carousellounge.com/calendar/the-schoolmen-3/
LOCATION:Carousel Lounge\, 1110 E 52nd St.\, Austin\, TX\, 78704\, United States
END:VEVENT
BEGIN:VEVENT
DTSTART;TZID=America/Chicago:20260402T190000
DTEND;TZID=America/Chicago:20260402T210000
DTSTAMP:20260419T151004
CREATED:20251223T212945Z
LAST-MODIFIED:20251223T212945Z
UID:10000922-1775156400-1775163600@carousellounge.com
SUMMARY:JAMBS
DESCRIPTION:
URL:https://carousellounge.com/calendar/jambs-4/
LOCATION:Carousel Lounge\, 1110 E 52nd St.\, Austin\, TX\, 78704\, United States
END:VEVENT
BEGIN:VEVENT
DTSTART;TZID=America/Chicago:20260402T210000
DTEND;TZID=America/Chicago:20260403T000000
DTSTAMP:20260419T151004
CREATED:20260119T023309Z
LAST-MODIFIED:20260203T211129Z
UID:10000970-1775163600-1775174400@carousellounge.com
SUMMARY:Sound Cult 9pm\, Zebra Secrets from San Francisco 10pm\, Slip Winder 11-midnite (Lisa C)
DESCRIPTION:
URL:https://carousellounge.com/calendar/lisa-cameron-lineup-9-midnite-5/
LOCATION:Carousel Lounge\, 1110 E 52nd St.\, Austin\, TX\, 78704\, United States
END:VEVENT
BEGIN:VEVENT
DTSTART;TZID=America/Chicago:20260403T170000
DTEND;TZID=America/Chicago:20260403T183000
DTSTAMP:20260419T151004
CREATED:20260203T032830Z
LAST-MODIFIED:20260203T032830Z
UID:10000997-1775235600-1775241000@carousellounge.com
SUMMARY:Allan Gill
DESCRIPTION:
URL:https://carousellounge.com/calendar/allan-gill-47/
LOCATION:Carousel Lounge\, 1110 E 52nd St.\, Austin\, TX\, 78704\, United States
END:VEVENT
BEGIN:VEVENT
DTSTART;TZID=America/Chicago:20260403T190000
DTEND;TZID=America/Chicago:20260403T210000
DTSTAMP:20260419T151004
CREATED:20260128T202011Z
LAST-MODIFIED:20260128T202011Z
UID:10000988-1775242800-1775250000@carousellounge.com
SUMMARY:Mad Cowboys
DESCRIPTION:
URL:https://carousellounge.com/calendar/mad-cowboys-20/
LOCATION:Carousel Lounge\, 1110 E 52nd St.\, Austin\, TX\, 78704\, United States
END:VEVENT
BEGIN:VEVENT
DTSTART;TZID=America/Chicago:20260403T210000
DTEND;TZID=America/Chicago:20260404T000000
DTSTAMP:20260419T151004
CREATED:20260128T202202Z
LAST-MODIFIED:20260321T205041Z
UID:10000989-1775250000-1775260800@carousellounge.com
SUMMARY:The New Ghoulets 9pm\, Wolly Vicars 10-midnite
DESCRIPTION:
URL:https://carousellounge.com/calendar/the-new-ghoulets-3/
LOCATION:Carousel Lounge\, 1110 E 52nd St.\, Austin\, TX\, 78704\, United States
END:VEVENT
BEGIN:VEVENT
DTSTART;TZID=America/Chicago:20260404T170000
DTEND;TZID=America/Chicago:20260404T190000
DTSTAMP:20260419T151004
CREATED:20251111T225728Z
LAST-MODIFIED:20251111T230957Z
UID:10000830-1775322000-1775329200@carousellounge.com
SUMMARY:Topanga Bros.
DESCRIPTION:
URL:https://carousellounge.com/calendar/topanga-bros/
LOCATION:Carousel Lounge\, 1110 E 52nd St.\, Austin\, TX\, 78704\, United States
END:VEVENT
BEGIN:VEVENT
DTSTART;TZID=America/Chicago:20260404T200000
DTEND;TZID=America/Chicago:20260404T210000
DTSTAMP:20260419T151004
CREATED:20251203T030651Z
LAST-MODIFIED:20251203T030832Z
UID:10000892-1775332800-1775336400@carousellounge.com
SUMMARY:Gender Bent Comedy Show (Jeanette\, bdance)
DESCRIPTION:
URL:https://carousellounge.com/calendar/gender-bent-comedy-show-jeanette-bdance/
LOCATION:Carousel Lounge\, 1110 E 52nd St.\, Austin\, TX\, 78704\, United States
END:VEVENT
BEGIN:VEVENT
DTSTART;TZID=America/Chicago:20260408T190000
DTEND;TZID=America/Chicago:20260408T200000
DTSTAMP:20260419T151004
CREATED:20260329T040412Z
LAST-MODIFIED:20260329T040548Z
UID:10001074-1775674800-1775678400@carousellounge.com
SUMMARY:Mischief Soul
DESCRIPTION:
URL:https://carousellounge.com/calendar/mischief-soul-2/
LOCATION:Carousel Lounge\, 1110 E 52nd St.\, Austin\, TX\, 78704\, United States
END:VEVENT
BEGIN:VEVENT
DTSTART;TZID=America/Chicago:20260409T200000
DTEND;TZID=America/Chicago:20260409T210000
DTSTAMP:20260419T151004
CREATED:20260215T171322Z
LAST-MODIFIED:20260215T171322Z
UID:10001016-1775764800-1775768400@carousellounge.com
SUMMARY:Jaded Ravins
DESCRIPTION:
URL:https://carousellounge.com/calendar/jaded-ravins/
LOCATION:Carousel Lounge\, 1110 E 52nd St.\, Austin\, TX\, 78704\, United States
END:VEVENT
BEGIN:VEVENT
DTSTART;TZID=America/Chicago:20260409T210000
DTEND;TZID=America/Chicago:20260410T000000
DTSTAMP:20260419T151004
CREATED:20260227T023739Z
LAST-MODIFIED:20260227T024813Z
UID:10001031-1775768400-1775779200@carousellounge.com
SUMMARY:Aden Rackley 9-10:30pm\,Thad Cochran 10:30-midnite
DESCRIPTION:
URL:https://carousellounge.com/calendar/thad-cochran-aden-9-midnite-to-confirm/
LOCATION:Carousel Lounge\, 1110 E 52nd St.\, Austin\, TX\, 78704\, United States
END:VEVENT
END:VCALENDAR