BEGIN:VCALENDAR
VERSION:2.0
PRODID:-//Carousel Lounge - ECPv6.15.20//NONSGML v1.0//EN
CALSCALE:GREGORIAN
METHOD:PUBLISH
X-WR-CALNAME:Carousel Lounge
X-ORIGINAL-URL:https://carousellounge.com
X-WR-CALDESC:Events for Carousel Lounge
REFRESH-INTERVAL;VALUE=DURATION:PT1H
X-Robots-Tag:noindex
X-PUBLISHED-TTL:PT1H
BEGIN:VTIMEZONE
TZID:America/Chicago
BEGIN:DAYLIGHT
TZOFFSETFROM:-0600
TZOFFSETTO:-0500
TZNAME:CDT
DTSTART:20240310T080000
END:DAYLIGHT
BEGIN:STANDARD
TZOFFSETFROM:-0500
TZOFFSETTO:-0600
TZNAME:CST
DTSTART:20241103T070000
END:STANDARD
BEGIN:DAYLIGHT
TZOFFSETFROM:-0600
TZOFFSETTO:-0500
TZNAME:CDT
DTSTART:20250309T080000
END:DAYLIGHT
BEGIN:STANDARD
TZOFFSETFROM:-0500
TZOFFSETTO:-0600
TZNAME:CST
DTSTART:20251102T070000
END:STANDARD
BEGIN:DAYLIGHT
TZOFFSETFROM:-0600
TZOFFSETTO:-0500
TZNAME:CDT
DTSTART:20260308T080000
END:DAYLIGHT
BEGIN:STANDARD
TZOFFSETFROM:-0500
TZOFFSETTO:-0600
TZNAME:CST
DTSTART:20261101T070000
END:STANDARD
END:VTIMEZONE
BEGIN:VEVENT
DTSTART;TZID=America/Chicago:20251113T190000
DTEND;TZID=America/Chicago:20251114T000000
DTSTAMP:20260422T031845
CREATED:20250524T212054Z
LAST-MODIFIED:20250524T212054Z
UID:10000618-1763060400-1763078400@carousellounge.com
SUMMARY:Sam Goldwinners lineup
DESCRIPTION:
URL:https://carousellounge.com/calendar/sam-goldwinners-lineup/
LOCATION:Carousel Lounge\, 1110 E 52nd St.\, Austin\, TX\, 78704\, United States
END:VEVENT
BEGIN:VEVENT
DTSTART;TZID=America/Chicago:20251113T170000
DTEND;TZID=America/Chicago:20251113T190000
DTSTAMP:20260422T031845
CREATED:20250304T015645Z
LAST-MODIFIED:20250304T015645Z
UID:10000498-1763053200-1763060400@carousellounge.com
SUMMARY:Bryan Bielandski
DESCRIPTION:
URL:https://carousellounge.com/calendar/bryan-bielandski/
LOCATION:Carousel Lounge\, 1110 E 52nd St.\, Austin\, TX\, 78704\, United States
END:VEVENT
BEGIN:VEVENT
DTSTART;TZID=America/Chicago:20251112T190000
DTEND;TZID=America/Chicago:20251112T210000
DTSTAMP:20260422T031845
CREATED:20251023T215108Z
LAST-MODIFIED:20251023T215108Z
UID:10000801-1762974000-1762981200@carousellounge.com
SUMMARY:Adi Rao and another band
DESCRIPTION:
URL:https://carousellounge.com/calendar/adi-rao-and-another-band/
LOCATION:Carousel Lounge\, 1110 E 52nd St.\, Austin\, TX\, 78704\, United States
END:VEVENT
BEGIN:VEVENT
DTSTART;TZID=America/Chicago:20251112T170000
DTEND;TZID=America/Chicago:20251112T183000
DTSTAMP:20260422T031845
CREATED:20241203T182207Z
LAST-MODIFIED:20241203T182207Z
UID:10000345-1762966800-1762972200@carousellounge.com
SUMMARY:Uncle Brent\, The Nostone
DESCRIPTION:
URL:https://carousellounge.com/calendar/uncle-brent-the-nostone-7/
LOCATION:Carousel Lounge\, 1110 E 52nd St.\, Austin\, TX\, 78704\, United States
END:VEVENT
BEGIN:VEVENT
DTSTART;TZID=America/Chicago:20251108T210000
DTEND;TZID=America/Chicago:20251109T010000
DTSTAMP:20260422T031845
CREATED:20251102T022647Z
LAST-MODIFIED:20251102T023130Z
UID:10000811-1762635600-1762650000@carousellounge.com
SUMMARY:Admiral Sound (P.J)
DESCRIPTION:
URL:https://carousellounge.com/calendar/admiral-sound-p-j/
LOCATION:Carousel Lounge\, 1110 E 52nd St.\, Austin\, TX\, 78704\, United States
END:VEVENT
BEGIN:VEVENT
DTSTART;TZID=America/Chicago:20251108T170000
DTEND;TZID=America/Chicago:20251108T210000
DTSTAMP:20260422T031845
CREATED:20251014T012528Z
LAST-MODIFIED:20251014T012528Z
UID:10000793-1762621200-1762635600@carousellounge.com
SUMMARY:Velvet Serenade 5-7pm\, Galaxy 7-9pm
DESCRIPTION:
URL:https://carousellounge.com/calendar/velvet-serenade-5-7pm-galaxy-7-9pm/
LOCATION:Carousel Lounge\, 1110 E 52nd St.\, Austin\, TX\, 78704\, United States
END:VEVENT
BEGIN:VEVENT
DTSTART;TZID=America/Chicago:20251107T220000
DTEND;TZID=America/Chicago:20251108T000000
DTSTAMP:20260422T031845
CREATED:20251012T012643Z
LAST-MODIFIED:20251012T012643Z
UID:10000792-1762552800-1762560000@carousellounge.com
SUMMARY:Good Clean Fun (Shaun)
DESCRIPTION:
URL:https://carousellounge.com/calendar/good-clean-fun-shaun/
LOCATION:Carousel Lounge\, 1110 E 52nd St.\, Austin\, TX\, 78704\, United States
END:VEVENT
BEGIN:VEVENT
DTSTART;TZID=America/Chicago:20251107T190000
DTEND;TZID=America/Chicago:20251107T210000
DTSTAMP:20260422T031845
CREATED:20250811T212126Z
LAST-MODIFIED:20250811T212126Z
UID:10000722-1762542000-1762549200@carousellounge.com
SUMMARY:Mad Cowboys
DESCRIPTION:
URL:https://carousellounge.com/calendar/mad-cowboys-16/
LOCATION:Carousel Lounge\, 1110 E 52nd St.\, Austin\, TX\, 78704\, United States
END:VEVENT
BEGIN:VEVENT
DTSTART;TZID=America/Chicago:20251107T170000
DTEND;TZID=America/Chicago:20251107T190000
DTSTAMP:20260422T031845
CREATED:20251108T000750Z
LAST-MODIFIED:20251108T000750Z
UID:10000822-1762534800-1762542000@carousellounge.com
SUMMARY:Variety Jones
DESCRIPTION:
URL:https://carousellounge.com/calendar/variety-jones-30/
LOCATION:Carousel Lounge\, 1110 E 52nd St.\, Austin\, TX\, 78704\, United States
END:VEVENT
BEGIN:VEVENT
DTSTART;TZID=America/Chicago:20251106T213000
DTEND;TZID=America/Chicago:20251107T000000
DTSTAMP:20260422T031845
CREATED:20251023T215615Z
LAST-MODIFIED:20251023T215615Z
UID:10000802-1762464600-1762473600@carousellounge.com
SUMMARY:Chris Toast and the Jerks\, Bird Casino
DESCRIPTION:
URL:https://carousellounge.com/calendar/chris-toast-and-the-jerks-bird-casino/
LOCATION:Carousel Lounge\, 1110 E 52nd St.\, Austin\, TX\, 78704\, United States
END:VEVENT
BEGIN:VEVENT
DTSTART;TZID=America/Chicago:20251106T190000
DTEND;TZID=America/Chicago:20251106T210000
DTSTAMP:20260422T031845
CREATED:20250924T202557Z
LAST-MODIFIED:20250924T202557Z
UID:10000776-1762455600-1762462800@carousellounge.com
SUMMARY:JAMBS
DESCRIPTION:
URL:https://carousellounge.com/calendar/jambs-2/
LOCATION:Carousel Lounge\, 1110 E 52nd St.\, Austin\, TX\, 78704\, United States
END:VEVENT
BEGIN:VEVENT
DTSTART;TZID=America/Chicago:20251105T190000
DTEND;TZID=America/Chicago:20251105T210000
DTSTAMP:20260422T031845
CREATED:20250130T030351Z
LAST-MODIFIED:20250130T030351Z
UID:10000462-1762369200-1762376400@carousellounge.com
SUMMARY:Soulphonics
DESCRIPTION:
URL:https://carousellounge.com/calendar/soulphonics-15/
LOCATION:Carousel Lounge\, 1110 E 52nd St.\, Austin\, TX\, 78704\, United States
END:VEVENT
BEGIN:VEVENT
DTSTART;TZID=America/Chicago:20251105T170000
DTEND;TZID=America/Chicago:20251105T183000
DTSTAMP:20260422T031845
CREATED:20250910T011129Z
LAST-MODIFIED:20250910T011129Z
UID:10000760-1762362000-1762367400@carousellounge.com
SUMMARY:Peter Keane
DESCRIPTION:
URL:https://carousellounge.com/calendar/peter-keane-11/
LOCATION:Carousel Lounge\, 1110 E 52nd St.\, Austin\, TX\, 78704\, United States
END:VEVENT
BEGIN:VEVENT
DTSTART;TZID=America/Chicago:20251101T190000
DTEND;TZID=America/Chicago:20251101T210000
DTSTAMP:20260422T031845
CREATED:20250903T143451Z
LAST-MODIFIED:20250903T143451Z
UID:10000753-1762023600-1762030800@carousellounge.com
SUMMARY:Musical Malpractice
DESCRIPTION:
URL:https://carousellounge.com/calendar/musical-malpractice-2/
LOCATION:Carousel Lounge\, 1110 E 52nd St.\, Austin\, TX\, 78704\, United States
END:VEVENT
BEGIN:VEVENT
DTSTART;TZID=America/Chicago:20251031T170000
DTEND;TZID=America/Chicago:20251031T190000
DTSTAMP:20260422T031845
CREATED:20250924T204155Z
LAST-MODIFIED:20250924T204241Z
UID:10000781-1761930000-1761937200@carousellounge.com
SUMMARY:Allan Gill
DESCRIPTION:
URL:https://carousellounge.com/calendar/allan-gill-36/
LOCATION:Carousel Lounge\, 1110 E 52nd St.\, Austin\, TX\, 78704\, United States
END:VEVENT
BEGIN:VEVENT
DTSTART;TZID=America/Chicago:20251030T190000
DTEND;TZID=America/Chicago:20251030T210000
DTSTAMP:20260422T031845
CREATED:20251022T151648Z
LAST-MODIFIED:20251029T205024Z
UID:10000800-1761850800-1761858000@carousellounge.com
SUMMARY:Steve Garfield
DESCRIPTION:
URL:https://carousellounge.com/calendar/steve-garfield/
LOCATION:Carousel Lounge\, 1110 E 52nd St.\, Austin\, TX\, 78704\, United States
END:VEVENT
BEGIN:VEVENT
DTSTART;TZID=America/Chicago:20251025T210000
DTEND;TZID=America/Chicago:20251026T010000
DTSTAMP:20260422T031845
CREATED:20250824T030910Z
LAST-MODIFIED:20251107T030527Z
UID:10000735-1761426000-1761440400@carousellounge.com
SUMMARY:Tony Frische 12pm-1am\, Finger Jane 11pm\, Nematoads\,10pm\, Allison Rand 9pm
DESCRIPTION:
URL:https://carousellounge.com/calendar/ted-james-nematoads-lineup-9-1am/
LOCATION:Carousel Lounge\, 1110 E 52nd St.\, Austin\, TX\, 78704\, United States
END:VEVENT
BEGIN:VEVENT
DTSTART;TZID=America/Chicago:20251025T200000
DTEND;TZID=America/Chicago:20251025T210000
DTSTAMP:20260422T031845
CREATED:20250611T142055Z
LAST-MODIFIED:20250611T142322Z
UID:10000640-1761422400-1761426000@carousellounge.com
SUMMARY:Bellydancers
DESCRIPTION:
URL:https://carousellounge.com/calendar/bellydancers-9/
LOCATION:Carousel Lounge\, 1110 E 52nd St.\, Austin\, TX\, 78704\, United States
END:VEVENT
BEGIN:VEVENT
DTSTART;TZID=America/Chicago:20251025T190000
DTEND;TZID=America/Chicago:20251025T200000
DTSTAMP:20260422T031845
CREATED:20250702T221040Z
LAST-MODIFIED:20250702T221040Z
UID:10000681-1761418800-1761422400@carousellounge.com
SUMMARY:Jei-Rynn
DESCRIPTION:
URL:https://carousellounge.com/calendar/jei-rynn-2/
LOCATION:Carousel Lounge\, 1110 E 52nd St.\, Austin\, TX\, 78704\, United States
END:VEVENT
BEGIN:VEVENT
DTSTART;TZID=America/Chicago:20251024T170000
DTEND;TZID=America/Chicago:20251024T190000
DTSTAMP:20260422T031845
CREATED:20250924T204627Z
LAST-MODIFIED:20250924T204800Z
UID:10000783-1761325200-1761332400@carousellounge.com
SUMMARY:Variety Jones
DESCRIPTION:
URL:https://carousellounge.com/calendar/variety-jones-29/
LOCATION:Carousel Lounge\, 1110 E 52nd St.\, Austin\, TX\, 78704\, United States
END:VEVENT
BEGIN:VEVENT
DTSTART;TZID=America/Chicago:20251023T190000
DTEND;TZID=America/Chicago:20251023T210000
DTSTAMP:20260422T031845
CREATED:20250828T184519Z
LAST-MODIFIED:20250828T184519Z
UID:10000743-1761246000-1761253200@carousellounge.com
SUMMARY:Lo Gentry 7pm\, Neapolitan 7:40pm\, Jei-Rynn 8:20-9pm
DESCRIPTION:
URL:https://carousellounge.com/calendar/lo-gentry-7pm-neapolitan-740pm-jei-rynn-820-9pm/
LOCATION:Carousel Lounge\, 1110 E 52nd St.\, Austin\, TX\, 78704\, United States
END:VEVENT
BEGIN:VEVENT
DTSTART;TZID=America/Chicago:20251022T173000
DTEND;TZID=America/Chicago:20251022T190000
DTSTAMP:20260422T031845
CREATED:20251004T182336Z
LAST-MODIFIED:20251004T182353Z
UID:10000790-1761154200-1761159600@carousellounge.com
SUMMARY:Poetry by Tim Krcmarik  Music by Daily Worker
DESCRIPTION:
URL:https://carousellounge.com/calendar/poetry-by-tim-krcmarik-music-by-daily-worker/
LOCATION:Carousel Lounge\, 1110 E 52nd St.\, Austin\, TX\, 78704\, United States
END:VEVENT
BEGIN:VEVENT
DTSTART;TZID=America/Chicago:20251018T190000
DTEND;TZID=America/Chicago:20251019T010000
DTSTAMP:20260422T031845
CREATED:20250604T175628Z
LAST-MODIFIED:20250604T175628Z
UID:10000627-1760814000-1760835600@carousellounge.com
SUMMARY:Angie's Rock & Roll Circus 50th Birthday Celebration 7-1am
DESCRIPTION:
URL:https://carousellounge.com/calendar/angies-rock-roll-circus-50th-birthday-celebration-7-1am/
LOCATION:Carousel Lounge\, 1110 E 52nd St.\, Austin\, TX\, 78704\, United States
END:VEVENT
BEGIN:VEVENT
DTSTART;TZID=America/Chicago:20251018T170000
DTEND;TZID=America/Chicago:20251018T183000
DTSTAMP:20260422T031845
CREATED:20250519T221511Z
LAST-MODIFIED:20250519T221511Z
UID:10000610-1760806800-1760812200@carousellounge.com
SUMMARY:Steve McCarthy
DESCRIPTION:
URL:https://carousellounge.com/calendar/steve-mccarthy-15/
LOCATION:Carousel Lounge\, 1110 E 52nd St.\, Austin\, TX\, 78704\, United States
END:VEVENT
BEGIN:VEVENT
DTSTART;TZID=America/Chicago:20251017T210000
DTEND;TZID=America/Chicago:20251018T000000
DTSTAMP:20260422T031845
CREATED:20250927T165831Z
LAST-MODIFIED:20251014T214540Z
UID:10000784-1760734800-1760745600@carousellounge.com
SUMMARY:South Austin Pop Collective
DESCRIPTION:
URL:https://carousellounge.com/calendar/south-austin-pop-collective-2/
LOCATION:Carousel Lounge\, 1110 E 52nd St.\, Austin\, TX\, 78704\, United States
END:VEVENT
BEGIN:VEVENT
DTSTART;TZID=America/Chicago:20251017T193000
DTEND;TZID=America/Chicago:20251017T210000
DTSTAMP:20260422T031845
CREATED:20251014T214754Z
LAST-MODIFIED:20251014T214754Z
UID:10000796-1760729400-1760734800@carousellounge.com
SUMMARY:Lisa Gamache
DESCRIPTION:
URL:https://carousellounge.com/calendar/lisa-gamache/
LOCATION:Carousel Lounge\, 1110 E 52nd St.\, Austin\, TX\, 78704\, United States
END:VEVENT
BEGIN:VEVENT
DTSTART;TZID=America/Chicago:20251017T170000
DTEND;TZID=America/Chicago:20251017T190000
DTSTAMP:20260422T031845
CREATED:20250924T204438Z
LAST-MODIFIED:20250924T204456Z
UID:10000782-1760720400-1760727600@carousellounge.com
SUMMARY:Allan Gill
DESCRIPTION:
URL:https://carousellounge.com/calendar/allan-gill-37/
LOCATION:Carousel Lounge\, 1110 E 52nd St.\, Austin\, TX\, 78704\, United States
END:VEVENT
BEGIN:VEVENT
DTSTART;TZID=America/Chicago:20251016T190000
DTEND;TZID=America/Chicago:20251016T210000
DTSTAMP:20260422T031845
CREATED:20250812T180807Z
LAST-MODIFIED:20250812T180957Z
UID:10000727-1760641200-1760648400@carousellounge.com
SUMMARY:Kyra Gordon  & another musician
DESCRIPTION:
URL:https://carousellounge.com/calendar/kyra-gordan/
LOCATION:Carousel Lounge\, 1110 E 52nd St.\, Austin\, TX\, 78704\, United States
END:VEVENT
BEGIN:VEVENT
DTSTART;TZID=America/Chicago:20251011T220000
DTEND;TZID=America/Chicago:20251012T000000
DTSTAMP:20260422T031845
CREATED:20250927T181019Z
LAST-MODIFIED:20250929T193828Z
UID:10000786-1760220000-1760227200@carousellounge.com
SUMMARY:Leroi Brothers 10pm\,Soulphonics 11pm-midnite
DESCRIPTION:
URL:https://carousellounge.com/calendar/soulphonics-boss-jaguars-10-midnite/
LOCATION:Carousel Lounge\, 1110 E 52nd St.\, Austin\, TX\, 78704\, United States
END:VEVENT
BEGIN:VEVENT
DTSTART;TZID=America/Chicago:20251011T210000
DTEND;TZID=America/Chicago:20251011T220000
DTSTAMP:20260422T031845
CREATED:20250716T154905Z
LAST-MODIFIED:20250716T154905Z
UID:10000699-1760216400-1760220000@carousellounge.com
SUMMARY:Thot Squad
DESCRIPTION:
URL:https://carousellounge.com/calendar/thot-squad/
LOCATION:Carousel Lounge\, 1110 E 52nd St.\, Austin\, TX\, 78704\, United States
END:VEVENT
END:VCALENDAR