BEGIN:VCALENDAR
VERSION:2.0
PRODID:-//Carousel Lounge - ECPv6.15.20//NONSGML v1.0//EN
CALSCALE:GREGORIAN
METHOD:PUBLISH
X-ORIGINAL-URL:https://carousellounge.com
X-WR-CALDESC:Events for Carousel Lounge
REFRESH-INTERVAL;VALUE=DURATION:PT1H
X-Robots-Tag:noindex
X-PUBLISHED-TTL:PT1H
BEGIN:VTIMEZONE
TZID:America/Chicago
BEGIN:DAYLIGHT
TZOFFSETFROM:-0600
TZOFFSETTO:-0500
TZNAME:CDT
DTSTART:20250309T080000
END:DAYLIGHT
BEGIN:STANDARD
TZOFFSETFROM:-0500
TZOFFSETTO:-0600
TZNAME:CST
DTSTART:20251102T070000
END:STANDARD
BEGIN:DAYLIGHT
TZOFFSETFROM:-0600
TZOFFSETTO:-0500
TZNAME:CDT
DTSTART:20260308T080000
END:DAYLIGHT
BEGIN:STANDARD
TZOFFSETFROM:-0500
TZOFFSETTO:-0600
TZNAME:CST
DTSTART:20261101T070000
END:STANDARD
BEGIN:DAYLIGHT
TZOFFSETFROM:-0600
TZOFFSETTO:-0500
TZNAME:CDT
DTSTART:20270314T080000
END:DAYLIGHT
BEGIN:STANDARD
TZOFFSETFROM:-0500
TZOFFSETTO:-0600
TZNAME:CST
DTSTART:20271107T070000
END:STANDARD
END:VTIMEZONE
BEGIN:VEVENT
DTSTART;TZID=America/Chicago:20260422T170000
DTEND;TZID=America/Chicago:20260422T190000
DTSTAMP:20260419T093850
CREATED:20260407T024259Z
LAST-MODIFIED:20260407T024259Z
UID:10001086-1776877200-1776884400@carousellounge.com
SUMMARY:Zing (Mack)
DESCRIPTION:
URL:https://carousellounge.com/calendar/zing-mack/
LOCATION:Carousel Lounge\, 1110 E 52nd St.\, Austin\, TX\, 78704\, United States
END:VEVENT
BEGIN:VEVENT
DTSTART;TZID=America/Chicago:20260422T190000
DTEND;TZID=America/Chicago:20260422T210000
DTSTAMP:20260419T093850
CREATED:20260320T213054Z
LAST-MODIFIED:20260320T213054Z
UID:10001060-1776884400-1776891600@carousellounge.com
SUMMARY:SOB & the Dangs (Stac)
DESCRIPTION:
URL:https://carousellounge.com/calendar/sob-the-dangs-stac/
LOCATION:Carousel Lounge\, 1110 E 52nd St.\, Austin\, TX\, 78704\, United States
END:VEVENT
BEGIN:VEVENT
DTSTART;TZID=America/Chicago:20260422T210000
DTEND;TZID=America/Chicago:20260422T230000
DTSTAMP:20260419T093850
CREATED:20260203T170626Z
LAST-MODIFIED:20260207T044350Z
UID:10000999-1776891600-1776898800@carousellounge.com
SUMMARY:Sleazebag Jones\, John Coupe\, Dreamstate\, Building 8\, Andrew Stone\, Georgie Britt
DESCRIPTION:
URL:https://carousellounge.com/calendar/john-coupe-andrew-stone-georgie-britt-and-sleazebagjones/
LOCATION:Carousel Lounge\, 1110 E 52nd St.\, Austin\, TX\, 78704\, United States
END:VEVENT
BEGIN:VEVENT
DTSTART;TZID=America/Chicago:20260423T170000
DTEND;TZID=America/Chicago:20260423T190000
DTSTAMP:20260419T093850
CREATED:20260311T215533Z
LAST-MODIFIED:20260311T215629Z
UID:10001040-1776963600-1776970800@carousellounge.com
SUMMARY:5051 (Victor)
DESCRIPTION:
URL:https://carousellounge.com/calendar/5051-victor/
LOCATION:Carousel Lounge\, 1110 E 52nd St.\, Austin\, TX\, 78704\, United States
END:VEVENT
BEGIN:VEVENT
DTSTART;TZID=America/Chicago:20260423T190000
DTEND;TZID=America/Chicago:20260423T210000
DTSTAMP:20260419T093850
CREATED:20260410T032236Z
LAST-MODIFIED:20260410T032236Z
UID:10001097-1776970800-1776978000@carousellounge.com
SUMMARY:Step Right Up Standup Comedy Show 7-9pm (K.  Haydon)
DESCRIPTION:
URL:https://carousellounge.com/calendar/step-right-up-standup-comedy-show-7-9pm-k-haydon/
LOCATION:Carousel Lounge\, 1110 E 52nd St.\, Austin\, TX\, 78704\, United States
END:VEVENT
BEGIN:VEVENT
DTSTART;TZID=America/Chicago:20260423T210000
DTEND;TZID=America/Chicago:20260424T000000
DTSTAMP:20260419T093850
CREATED:20260214T221058Z
LAST-MODIFIED:20260214T221139Z
UID:10001013-1776978000-1776988800@carousellounge.com
SUMMARY:Hotel Gato 9pm\, Dead Pan 10pm\, The Turducken Trio 11-midnite (Rand)
DESCRIPTION:
URL:https://carousellounge.com/calendar/hotel-gato-9pm-dead-pan-10pm-the-turducken-trio-11-midnite/
LOCATION:Carousel Lounge\, 1110 E 52nd St.\, Austin\, TX\, 78704\, United States
END:VEVENT
BEGIN:VEVENT
DTSTART;TZID=America/Chicago:20260424T190000
DTEND;TZID=America/Chicago:20260424T210000
DTSTAMP:20260419T093850
CREATED:20251122T183042Z
LAST-MODIFIED:20251122T183042Z
UID:10000863-1777057200-1777064400@carousellounge.com
SUMMARY:Variety Jones
DESCRIPTION:
URL:https://carousellounge.com/calendar/variety-jones-37/
LOCATION:Carousel Lounge\, 1110 E 52nd St.\, Austin\, TX\, 78704\, United States
END:VEVENT
BEGIN:VEVENT
DTSTART;TZID=America/Chicago:20260424T210000
DTEND;TZID=America/Chicago:20260424T233000
DTSTAMP:20260419T093850
CREATED:20260418T024355Z
LAST-MODIFIED:20260418T024355Z
UID:10001101-1777064400-1777073400@carousellounge.com
SUMMARY:Al Golden & The 818 (Garcia\, Watson\, Amos)
DESCRIPTION:
URL:https://carousellounge.com/calendar/al-golden-the-818-garcia-watson-amos/
LOCATION:Carousel Lounge\, 1110 E 52nd St.\, Austin\, TX\, 78704\, United States
END:VEVENT
BEGIN:VEVENT
DTSTART;TZID=America/Chicago:20260424T210000
DTEND;TZID=America/Chicago:20260425T000000
DTSTAMP:20260419T093850
CREATED:20260217T203355Z
LAST-MODIFIED:20260217T203355Z
UID:10001019-1777064400-1777075200@carousellounge.com
SUMMARY:Straight Ahead
DESCRIPTION:
URL:https://carousellounge.com/calendar/straight-ahead-7/
LOCATION:Carousel Lounge\, 1110 E 52nd St.\, Austin\, TX\, 78704\, United States
END:VEVENT
BEGIN:VEVENT
DTSTART;TZID=America/Chicago:20260425T170000
DTEND;TZID=America/Chicago:20260425T183000
DTSTAMP:20260419T093850
CREATED:20260410T013831Z
LAST-MODIFIED:20260410T015957Z
UID:10001088-1777136400-1777141800@carousellounge.com
SUMMARY:Kirk V
DESCRIPTION:
URL:https://carousellounge.com/calendar/kirk-v-3/
LOCATION:Carousel Lounge\, 1110 E 52nd St.\, Austin\, TX\, 78704\, United States
END:VEVENT
BEGIN:VEVENT
DTSTART;TZID=America/Chicago:20260430T170000
DTEND;TZID=America/Chicago:20260430T190000
DTSTAMP:20260419T093850
CREATED:20251231T172356Z
LAST-MODIFIED:20251231T172417Z
UID:10000935-1777568400-1777575600@carousellounge.com
SUMMARY:Jahpa
DESCRIPTION:
URL:https://carousellounge.com/calendar/jahpa-8/
LOCATION:Carousel Lounge\, 1110 E 52nd St.\, Austin\, TX\, 78704\, United States
END:VEVENT
BEGIN:VEVENT
DTSTART;TZID=America/Chicago:20260501T170000
DTEND;TZID=America/Chicago:20260501T190000
DTSTAMP:20260419T093850
CREATED:20260303T042728Z
LAST-MODIFIED:20260303T042728Z
UID:10001034-1777654800-1777662000@carousellounge.com
SUMMARY:Allan Gill
DESCRIPTION:
URL:https://carousellounge.com/calendar/allan-gill-48/
LOCATION:Carousel Lounge\, 1110 E 52nd St.\, Austin\, TX\, 78704\, United States
END:VEVENT
BEGIN:VEVENT
DTSTART;TZID=America/Chicago:20260501T190000
DTEND;TZID=America/Chicago:20260501T210000
DTSTAMP:20260419T093850
CREATED:20260303T042833Z
LAST-MODIFIED:20260303T042833Z
UID:10001035-1777662000-1777669200@carousellounge.com
SUMMARY:Mad Cowboys
DESCRIPTION:
URL:https://carousellounge.com/calendar/mad-cowboys-21/
LOCATION:Carousel Lounge\, 1110 E 52nd St.\, Austin\, TX\, 78704\, United States
END:VEVENT
BEGIN:VEVENT
DTSTART;TZID=America/Chicago:20260502T170000
DTEND;TZID=America/Chicago:20260502T190000
DTSTAMP:20260419T093850
CREATED:20260317T173700Z
LAST-MODIFIED:20260317T173927Z
UID:10001042-1777741200-1777748400@carousellounge.com
SUMMARY:The Schoolmen
DESCRIPTION:
URL:https://carousellounge.com/calendar/the-schoolmen-4/
LOCATION:Carousel Lounge\, 1110 E 52nd St.\, Austin\, TX\, 78704\, United States
END:VEVENT
BEGIN:VEVENT
DTSTART;TZID=America/Chicago:20260506T170000
DTEND;TZID=America/Chicago:20260506T183000
DTSTAMP:20260419T093850
CREATED:20260406T022954Z
LAST-MODIFIED:20260406T022954Z
UID:10001079-1778086800-1778092200@carousellounge.com
SUMMARY:Peter Keane
DESCRIPTION:
URL:https://carousellounge.com/calendar/peter-keane-18/
LOCATION:Carousel Lounge\, 1110 E 52nd St.\, Austin\, TX\, 78704\, United States
END:VEVENT
BEGIN:VEVENT
DTSTART;TZID=America/Chicago:20260507T160000
DTEND;TZID=America/Chicago:20260507T170000
DTSTAMP:20260419T093850
CREATED:20260226T042141Z
LAST-MODIFIED:20260226T042141Z
UID:10001028-1778169600-1778173200@carousellounge.com
SUMMARY:Richard Alexander
DESCRIPTION:
URL:https://carousellounge.com/calendar/richard-alexander/
LOCATION:Carousel Lounge\, 1110 E 52nd St.\, Austin\, TX\, 78704\, United States
END:VEVENT
BEGIN:VEVENT
DTSTART;TZID=America/Chicago:20260507T190000
DTEND;TZID=America/Chicago:20260507T210000
DTSTAMP:20260419T093850
CREATED:20251223T212705Z
LAST-MODIFIED:20251223T212729Z
UID:10000921-1778180400-1778187600@carousellounge.com
SUMMARY:JAMBS 7-9PM
DESCRIPTION:
URL:https://carousellounge.com/calendar/jambs-7-9pm-2/
LOCATION:Carousel Lounge\, 1110 E 52nd St.\, Austin\, TX\, 78704\, United States
END:VEVENT
BEGIN:VEVENT
DTSTART;TZID=America/Chicago:20260508T190000
DTEND;TZID=America/Chicago:20260508T210000
DTSTAMP:20260419T093850
CREATED:20260320T175215Z
LAST-MODIFIED:20260320T180008Z
UID:10001059-1778266800-1778274000@carousellounge.com
SUMMARY:David Fore & Friends
DESCRIPTION:
URL:https://carousellounge.com/calendar/david-fore-friends-4/
LOCATION:Carousel Lounge\, 1110 E 52nd St.\, Austin\, TX\, 78704\, United States
END:VEVENT
BEGIN:VEVENT
DTSTART;TZID=America/Chicago:20260509T190000
DTEND;TZID=America/Chicago:20260509T210000
DTSTAMP:20260419T093850
CREATED:20260406T230305Z
LAST-MODIFIED:20260406T230305Z
UID:10001083-1778353200-1778360400@carousellounge.com
SUMMARY:Properties of Matter (C. Hart)
DESCRIPTION:
URL:https://carousellounge.com/calendar/properties-of-matter-c-hart/
LOCATION:Carousel Lounge\, 1110 E 52nd St.\, Austin\, TX\, 78704\, United States
END:VEVENT
BEGIN:VEVENT
DTSTART;TZID=America/Chicago:20260509T210000
DTEND;TZID=America/Chicago:20260510T010000
DTSTAMP:20260419T093850
CREATED:20260208T041119Z
LAST-MODIFIED:20260223T202139Z
UID:10001007-1778360400-1778374800@carousellounge.com
SUMMARY:Grease Can 9pm\, Bonneville County Pine Box 10pm\, Jean Caffeine11:30-1am (C. Bowman)
DESCRIPTION:
URL:https://carousellounge.com/calendar/bonneville-county-pine-box-grease-can-possibly-c-bowman/
LOCATION:Carousel Lounge\, 1110 E 52nd St.\, Austin\, TX\, 78704\, United States
END:VEVENT
BEGIN:VEVENT
DTSTART;TZID=America/Chicago:20260513T190000
DTEND;TZID=America/Chicago:20260513T210000
DTSTAMP:20260419T093850
CREATED:20251105T154824Z
LAST-MODIFIED:20251107T030806Z
UID:10000815-1778698800-1778706000@carousellounge.com
SUMMARY:2 Weeks Notice 7-9pm (T. Walsh)
DESCRIPTION:
URL:https://carousellounge.com/calendar/two-weeks-notice-t-walsh-to-confirm/
LOCATION:Carousel Lounge\, 1110 E 52nd St.\, Austin\, TX\, 78704\, United States
END:VEVENT
BEGIN:VEVENT
DTSTART;TZID=America/Chicago:20260515T190000
DTEND;TZID=America/Chicago:20260515T210000
DTSTAMP:20260419T093850
CREATED:20260318T200320Z
LAST-MODIFIED:20260318T200320Z
UID:10001046-1778871600-1778878800@carousellounge.com
SUMMARY:Lisa Gamache & Banned for Life
DESCRIPTION:
URL:https://carousellounge.com/calendar/lisa-gamache-banned-for-life-9/
LOCATION:Carousel Lounge\, 1110 E 52nd St.\, Austin\, TX\, 78704\, United States
END:VEVENT
BEGIN:VEVENT
DTSTART;TZID=America/Chicago:20260516T200000
DTEND;TZID=America/Chicago:20260516T210000
DTSTAMP:20260419T093850
CREATED:20251203T025632Z
LAST-MODIFIED:20251203T025726Z
UID:10000888-1778961600-1778965200@carousellounge.com
SUMMARY:Bellydancers
DESCRIPTION:
URL:https://carousellounge.com/calendar/bellydancers-10/
LOCATION:Carousel Lounge\, 1110 E 52nd St.\, Austin\, TX\, 78704\, United States
END:VEVENT
BEGIN:VEVENT
DTSTART;TZID=America/Chicago:20260521T200000
DTEND;TZID=America/Chicago:20260522T000000
DTSTAMP:20260419T093850
CREATED:20260123T030558Z
LAST-MODIFIED:20260123T031933Z
UID:10000975-1779393600-1779408000@carousellounge.com
SUMMARY:Goldwinners & Friends
DESCRIPTION:
URL:https://carousellounge.com/calendar/sam-goldwinners-friends-2/
LOCATION:Carousel Lounge\, 1110 E 52nd St.\, Austin\, TX\, 78704\, United States
END:VEVENT
BEGIN:VEVENT
DTSTART;TZID=America/Chicago:20260522T190000
DTEND;TZID=America/Chicago:20260522T210000
DTSTAMP:20260419T093850
CREATED:20251122T183233Z
LAST-MODIFIED:20251122T183233Z
UID:10000864-1779476400-1779483600@carousellounge.com
SUMMARY:Variety Jones
DESCRIPTION:
URL:https://carousellounge.com/calendar/variety-jones-38/
LOCATION:Carousel Lounge\, 1110 E 52nd St.\, Austin\, TX\, 78704\, United States
END:VEVENT
BEGIN:VEVENT
DTSTART;TZID=America/Chicago:20260523T170000
DTEND;TZID=America/Chicago:20260523T190000
DTSTAMP:20260419T093850
CREATED:20260216T220246Z
LAST-MODIFIED:20260218T234048Z
UID:10001018-1779555600-1779562800@carousellounge.com
SUMMARY:Matthew Gonzalez 5pm\, Soul Parade 5:40-7pm
DESCRIPTION:
URL:https://carousellounge.com/calendar/soul-parade/
LOCATION:Carousel Lounge\, 1110 E 52nd St.\, Austin\, TX\, 78704\, United States
END:VEVENT
BEGIN:VEVENT
DTSTART;TZID=America/Chicago:20260523T200000
DTEND;TZID=America/Chicago:20260524T010000
DTSTAMP:20260419T093850
CREATED:20260206T044051Z
LAST-MODIFIED:20260206T044051Z
UID:10001005-1779566400-1779584400@carousellounge.com
SUMMARY:Angies Rock & Roll Prom
DESCRIPTION:
URL:https://carousellounge.com/calendar/angies-rock-roll-prom/
LOCATION:Carousel Lounge\, 1110 E 52nd St.\, Austin\, TX\, 78704\, United States
END:VEVENT
BEGIN:VEVENT
DTSTART;TZID=America/Chicago:20260528T170000
DTEND;TZID=America/Chicago:20260528T190000
DTSTAMP:20260419T093850
CREATED:20251231T173352Z
LAST-MODIFIED:20251231T173352Z
UID:10000939-1779987600-1779994800@carousellounge.com
SUMMARY:Jahpa
DESCRIPTION:
URL:https://carousellounge.com/calendar/jahpa-12/
LOCATION:Carousel Lounge\, 1110 E 52nd St.\, Austin\, TX\, 78704\, United States
END:VEVENT
BEGIN:VEVENT
DTSTART;TZID=America/Chicago:20260529T170000
DTEND;TZID=America/Chicago:20260529T190000
DTSTAMP:20260419T093850
CREATED:20260328T151934Z
LAST-MODIFIED:20260328T152017Z
UID:10001073-1780074000-1780081200@carousellounge.com
SUMMARY:Tony Frische (Rand)
DESCRIPTION:
URL:https://carousellounge.com/calendar/toni-frische-rand/
LOCATION:Carousel Lounge\, 1110 E 52nd St.\, Austin\, TX\, 78704\, United States
END:VEVENT
BEGIN:VEVENT
DTSTART;TZID=America/Chicago:20260530T170000
DTEND;TZID=America/Chicago:20260530T190000
DTSTAMP:20260419T093850
CREATED:20260324T024117Z
LAST-MODIFIED:20260324T024117Z
UID:10001064-1780160400-1780167600@carousellounge.com
SUMMARY:Steve McCarthy
DESCRIPTION:
URL:https://carousellounge.com/calendar/steve-mccarthy-20/
LOCATION:Carousel Lounge\, 1110 E 52nd St.\, Austin\, TX\, 78704\, United States
END:VEVENT
END:VCALENDAR