BEGIN:VCALENDAR
VERSION:2.0
PRODID:-//Carousel Lounge - ECPv6.15.20//NONSGML v1.0//EN
CALSCALE:GREGORIAN
METHOD:PUBLISH
X-WR-CALNAME:Carousel Lounge
X-ORIGINAL-URL:https://carousellounge.com
X-WR-CALDESC:Events for Carousel Lounge
REFRESH-INTERVAL;VALUE=DURATION:PT1H
X-Robots-Tag:noindex
X-PUBLISHED-TTL:PT1H
BEGIN:VTIMEZONE
TZID:America/Chicago
BEGIN:DAYLIGHT
TZOFFSETFROM:-0600
TZOFFSETTO:-0500
TZNAME:CDT
DTSTART:20250309T080000
END:DAYLIGHT
BEGIN:STANDARD
TZOFFSETFROM:-0500
TZOFFSETTO:-0600
TZNAME:CST
DTSTART:20251102T070000
END:STANDARD
BEGIN:DAYLIGHT
TZOFFSETFROM:-0600
TZOFFSETTO:-0500
TZNAME:CDT
DTSTART:20260308T080000
END:DAYLIGHT
BEGIN:STANDARD
TZOFFSETFROM:-0500
TZOFFSETTO:-0600
TZNAME:CST
DTSTART:20261101T070000
END:STANDARD
BEGIN:DAYLIGHT
TZOFFSETFROM:-0600
TZOFFSETTO:-0500
TZNAME:CDT
DTSTART:20270314T080000
END:DAYLIGHT
BEGIN:STANDARD
TZOFFSETFROM:-0500
TZOFFSETTO:-0600
TZNAME:CST
DTSTART:20271107T070000
END:STANDARD
END:VTIMEZONE
BEGIN:VEVENT
DTSTART;TZID=America/Chicago:20260304T170000
DTEND;TZID=America/Chicago:20260304T183000
DTSTAMP:20260419T123434
CREATED:20251206T000820Z
LAST-MODIFIED:20251206T000942Z
UID:10000897-1772643600-1772649000@carousellounge.com
SUMMARY:Peter Keane
DESCRIPTION:
URL:https://carousellounge.com/calendar/peter-keane-13/
LOCATION:Carousel Lounge\, 1110 E 52nd St.\, Austin\, TX\, 78704\, United States
END:VEVENT
BEGIN:VEVENT
DTSTART;TZID=America/Chicago:20260304T190000
DTEND;TZID=America/Chicago:20260304T210000
DTSTAMP:20260419T123434
CREATED:20260108T182908Z
LAST-MODIFIED:20260108T182908Z
UID:10000952-1772650800-1772658000@carousellounge.com
SUMMARY:Soulphonics 7-9pm
DESCRIPTION:
URL:https://carousellounge.com/calendar/soulphonics-7-9pm-4/
LOCATION:Carousel Lounge\, 1110 E 52nd St.\, Austin\, TX\, 78704\, United States
END:VEVENT
BEGIN:VEVENT
DTSTART;TZID=America/Chicago:20260304T210000
DTEND;TZID=America/Chicago:20260304T220000
DTSTAMP:20260419T123434
CREATED:20260215T221755Z
LAST-MODIFIED:20260215T221755Z
UID:10001017-1772658000-1772661600@carousellounge.com
SUMMARY:Cole Irish & the Crooks
DESCRIPTION:
URL:https://carousellounge.com/calendar/cole-irish-the-crooks/
LOCATION:Carousel Lounge\, 1110 E 52nd St.\, Austin\, TX\, 78704\, United States
END:VEVENT
BEGIN:VEVENT
DTSTART;TZID=America/Chicago:20260304T220000
DTEND;TZID=America/Chicago:20260305T000000
DTSTAMP:20260419T123434
CREATED:20260304T034145Z
LAST-MODIFIED:20260304T034242Z
UID:10001037-1772661600-1772668800@carousellounge.com
SUMMARY:Back Rub Club 10pm\, Coffee Badgers 11-midnite
DESCRIPTION:
URL:https://carousellounge.com/calendar/back-rub-club-10pm-coffee-badgers-11-midnite-2/
LOCATION:Carousel Lounge\, 1110 E 52nd St.\, Austin\, TX\, 78704\, United States
END:VEVENT
BEGIN:VEVENT
DTSTART;TZID=America/Chicago:20260305T170000
DTEND;TZID=America/Chicago:20260305T190000
DTSTAMP:20260419T123434
CREATED:20260205T001816Z
LAST-MODIFIED:20260208T050505Z
UID:10001003-1772730000-1772737200@carousellounge.com
SUMMARY:Anthony Gomez
DESCRIPTION:
URL:https://carousellounge.com/calendar/anthony-gomez-2/
LOCATION:Carousel Lounge\, 1110 E 52nd St.\, Austin\, TX\, 78704\, United States
END:VEVENT
BEGIN:VEVENT
DTSTART;TZID=America/Chicago:20260305T190000
DTEND;TZID=America/Chicago:20260305T210000
DTSTAMP:20260419T123434
CREATED:20251223T212505Z
LAST-MODIFIED:20260208T050611Z
UID:10000920-1772737200-1772744400@carousellounge.com
SUMMARY:JAMBS 7-9PM
DESCRIPTION:
URL:https://carousellounge.com/calendar/jambs-7-9pm/
LOCATION:Carousel Lounge\, 1110 E 52nd St.\, Austin\, TX\, 78704\, United States
END:VEVENT
BEGIN:VEVENT
DTSTART;TZID=America/Chicago:20260305T210000
DTEND;TZID=America/Chicago:20260306T000000
DTSTAMP:20260419T123434
CREATED:20260210T170507Z
LAST-MODIFIED:20260210T170645Z
UID:10001008-1772744400-1772755200@carousellounge.com
SUMMARY:South Austin Pop Collective
DESCRIPTION:
URL:https://carousellounge.com/calendar/south-austin-pop-collective-4/
LOCATION:Carousel Lounge\, 1110 E 52nd St.\, Austin\, TX\, 78704\, United States
END:VEVENT
BEGIN:VEVENT
DTSTART;TZID=America/Chicago:20260306T170000
DTEND;TZID=America/Chicago:20260306T190000
DTSTAMP:20260419T123434
CREATED:20260128T192208Z
LAST-MODIFIED:20260128T192208Z
UID:10000986-1772816400-1772823600@carousellounge.com
SUMMARY:Allan Gill
DESCRIPTION:
URL:https://carousellounge.com/calendar/allan-gill-45/
LOCATION:Carousel Lounge\, 1110 E 52nd St.\, Austin\, TX\, 78704\, United States
END:VEVENT
BEGIN:VEVENT
DTSTART;TZID=America/Chicago:20260306T190000
DTEND;TZID=America/Chicago:20260306T210000
DTSTAMP:20260419T123434
CREATED:20260123T032555Z
LAST-MODIFIED:20260123T033130Z
UID:10000977-1772823600-1772830800@carousellounge.com
SUMMARY:Mad Cowboys
DESCRIPTION:
URL:https://carousellounge.com/calendar/mad-cowboys-19/
LOCATION:Carousel Lounge\, 1110 E 52nd St.\, Austin\, TX\, 78704\, United States
END:VEVENT
BEGIN:VEVENT
DTSTART;TZID=America/Chicago:20260306T210000
DTEND;TZID=America/Chicago:20260307T000000
DTSTAMP:20260419T123434
CREATED:20260123T045824Z
LAST-MODIFIED:20260306T025030Z
UID:10000981-1772830800-1772841600@carousellounge.com
SUMMARY:Yeast By Sweet Beast Fest featuring Niemand 9:15pm\, Gym Mat Nat 10pm\, Aunts Analog 10:45\, Aurora Plastics Company 11:30-Mid
DESCRIPTION:
URL:https://carousellounge.com/calendar/yeast-by-sweet-beast-fest-2/
LOCATION:Carousel Lounge\, 1110 E 52nd St.\, Austin\, TX\, 78704\, United States
END:VEVENT
BEGIN:VEVENT
DTSTART;TZID=America/Chicago:20260307T160000
DTEND;TZID=America/Chicago:20260307T170000
DTSTAMP:20260419T123434
CREATED:20260226T041000Z
LAST-MODIFIED:20260226T041453Z
UID:10001027-1772899200-1772902800@carousellounge.com
SUMMARY:Glass Cassette
DESCRIPTION:
URL:https://carousellounge.com/calendar/glass-cassette/
LOCATION:Carousel Lounge\, 1110 E 52nd St.\, Austin\, TX\, 78704\, United States
END:VEVENT
BEGIN:VEVENT
DTSTART;TZID=America/Chicago:20260307T170000
DTEND;TZID=America/Chicago:20260307T190000
DTSTAMP:20260419T123434
CREATED:20260129T030515Z
LAST-MODIFIED:20260129T030515Z
UID:10000991-1772902800-1772910000@carousellounge.com
SUMMARY:Brooke Michele Band
DESCRIPTION:
URL:https://carousellounge.com/calendar/brooke-michele-band/
LOCATION:Carousel Lounge\, 1110 E 52nd St.\, Austin\, TX\, 78704\, United States
END:VEVENT
BEGIN:VEVENT
DTSTART;TZID=America/Chicago:20260307T190000
DTEND;TZID=America/Chicago:20260307T210000
DTSTAMP:20260419T123434
CREATED:20260113T030646Z
LAST-MODIFIED:20260113T030646Z
UID:10000958-1772910000-1772917200@carousellounge.com
SUMMARY:David Fore & Friends
DESCRIPTION:
URL:https://carousellounge.com/calendar/david-fore-friends-3/
LOCATION:Carousel Lounge\, 1110 E 52nd St.\, Austin\, TX\, 78704\, United States
END:VEVENT
BEGIN:VEVENT
DTSTART;TZID=America/Chicago:20260307T210000
DTEND;TZID=America/Chicago:20260308T010000
DTSTAMP:20260419T123434
CREATED:20260223T201217Z
LAST-MODIFIED:20260223T201515Z
UID:10001026-1772917200-1772931600@carousellounge.com
SUMMARY:Yeast By Sweet Beast Fest featuring Spas Modular 9:15pm\, Quidzark 10pm\, Cinders Ensemble 11:30\, Tazer Void 12:15-1am
DESCRIPTION:
URL:https://carousellounge.com/calendar/spas-modular-915pm-quidzark-10pm-cinders-ensemble-1130-tazer-void-1215-1am/
LOCATION:Carousel Lounge\, 1110 E 52nd St.\, Austin\, TX\, 78704\, United States
END:VEVENT
BEGIN:VEVENT
DTSTART;TZID=America/Chicago:20260308T150000
DTEND;TZID=America/Chicago:20260308T220000
DTSTAMP:20260419T123434
CREATED:20260217T205441Z
LAST-MODIFIED:20260223T200224Z
UID:10001020-1772982000-1773007200@carousellounge.com
SUMMARY:Yeast by Sweet Beast w/Spec. Guest 3:15pm\, Spec. Guest 4pm\, Cody Read 4:45pm\, Wilfred Brimley Secret Pickle 5:30\, Timothy Wiens 6:15\, Price Slashers 7\, Line of Fire 7:45\, Benard 8:30\, Special Guest 9:15-9:45pm
DESCRIPTION:
URL:https://carousellounge.com/calendar/yeast-by-sweet-beast-3/
LOCATION:Carousel Lounge\, 1110 E 52nd St.\, Austin\, TX\, 78704\, United States
END:VEVENT
BEGIN:VEVENT
DTSTART;TZID=America/Chicago:20260311T210000
DTEND;TZID=America/Chicago:20260312T000000
DTSTAMP:20260419T123434
CREATED:20251219T042120Z
LAST-MODIFIED:20260210T174803Z
UID:10000916-1773262800-1773273600@carousellounge.com
SUMMARY:Sandy Ewen (from NYC) & Lisa Cameron 9pm\, Alex Keller 10pm\, Disensemble 11-midnite
DESCRIPTION:
URL:https://carousellounge.com/calendar/lisa-cameron-lineup-9-midnite-4/
LOCATION:Carousel Lounge\, 1110 E 52nd St.\, Austin\, TX\, 78704\, United States
END:VEVENT
BEGIN:VEVENT
DTSTART;TZID=America/Chicago:20260312T160000
DTEND;TZID=America/Chicago:20260313T000000
DTSTAMP:20260419T123434
CREATED:20251102T193750Z
LAST-MODIFIED:20260131T154010Z
UID:10000813-1773331200-1773360000@carousellounge.com
SUMMARY:Extravaganza w Mal Thursday Quintet\, Ugly Beats\,  Violet Minefield (L.A.)\, Bitter Ends (St. Louis) + DJ Sue Purr event 5-midnite
DESCRIPTION:
URL:https://carousellounge.com/calendar/mal-thursday-event-5-midnite-to-confirm/
LOCATION:Carousel Lounge\, 1110 E 52nd St.\, Austin\, TX\, 78704\, United States
END:VEVENT
BEGIN:VEVENT
DTSTART;TZID=America/Chicago:20260313T170000
DTEND;TZID=America/Chicago:20260313T190000
DTSTAMP:20260419T123434
CREATED:20260118T190114Z
LAST-MODIFIED:20260118T190414Z
UID:10000969-1773421200-1773428400@carousellounge.com
SUMMARY:Marc Pendleton
DESCRIPTION:
URL:https://carousellounge.com/calendar/marc-pendleton/
LOCATION:Carousel Lounge\, 1110 E 52nd St.\, Austin\, TX\, 78704\, United States
END:VEVENT
BEGIN:VEVENT
DTSTART;TZID=America/Chicago:20260313T190000
DTEND;TZID=America/Chicago:20260313T210000
DTSTAMP:20260419T123434
CREATED:20251220T044916Z
LAST-MODIFIED:20260311T020845Z
UID:10000918-1773428400-1773435600@carousellounge.com
SUMMARY:Simm\, Aaron Newsome\, Charlie Gunn\, Sandoz 7-9pm (Jackie)
DESCRIPTION:
URL:https://carousellounge.com/calendar/jackie-to-get-lineup/
LOCATION:Carousel Lounge\, 1110 E 52nd St.\, Austin\, TX\, 78704\, United States
END:VEVENT
BEGIN:VEVENT
DTSTART;TZID=America/Chicago:20260313T210000
DTEND;TZID=America/Chicago:20260314T000000
DTSTAMP:20260419T123434
CREATED:20260130T025558Z
LAST-MODIFIED:20260301T042248Z
UID:10000995-1773435600-1773446400@carousellounge.com
SUMMARY:Yeast By Sweet Beast feat. Venison Wirled 9:15pm\, Rick Weaver 10pm\, Ratarue 10:45\, Glossolalia Online11:30pm-mid
DESCRIPTION:
URL:https://carousellounge.com/calendar/yeast-by-sweet-beast-2/
LOCATION:Carousel Lounge\, 1110 E 52nd St.\, Austin\, TX\, 78704\, United States
END:VEVENT
BEGIN:VEVENT
DTSTART;TZID=America/Chicago:20260314T153000
DTEND;TZID=America/Chicago:20260314T190000
DTSTAMP:20260419T123434
CREATED:20260214T224604Z
LAST-MODIFIED:20260311T021026Z
UID:10001014-1773502200-1773514800@carousellounge.com
SUMMARY:Stepmom\, Strong Work Band\, Too Far Gone\, Cinema Hearts (Jackie) 3:30-7pm.
DESCRIPTION:
URL:https://carousellounge.com/calendar/jackie-lineup-330-7pm/
LOCATION:Carousel Lounge\, 1110 E 52nd St.\, Austin\, TX\, 78704\, United States
END:VEVENT
BEGIN:VEVENT
DTSTART;TZID=America/Chicago:20260314T190000
DTEND;TZID=America/Chicago:20260315T010000
DTSTAMP:20260419T123434
CREATED:20251031T012352Z
LAST-MODIFIED:20260214T230338Z
UID:10000810-1773514800-1773536400@carousellounge.com
SUMMARY:Waco Brothers\, Far Forlorn\,  Big Violet\, A Joy Division Cover Band\, Julie Lowery Quartet\, Ramblin' Deano  7pm-1am (Dean\, Steve Mc)
DESCRIPTION:
URL:https://carousellounge.com/calendar/waco-brothers-7pm-1am/
LOCATION:Carousel Lounge\, 1110 E 52nd St.\, Austin\, TX\, 78704\, United States
END:VEVENT
BEGIN:VEVENT
DTSTART;TZID=America/Chicago:20260318T180000
DTEND;TZID=America/Chicago:20260318T190000
DTSTAMP:20260419T123434
CREATED:20260215T170929Z
LAST-MODIFIED:20260215T170929Z
UID:10001015-1773856800-1773860400@carousellounge.com
SUMMARY:Brainhalo
DESCRIPTION:
URL:https://carousellounge.com/calendar/brainhalo/
LOCATION:Carousel Lounge\, 1110 E 52nd St.\, Austin\, TX\, 78704\, United States
END:VEVENT
BEGIN:VEVENT
DTSTART;TZID=America/Chicago:20260318T190000
DTEND;TZID=America/Chicago:20260319T000000
DTSTAMP:20260419T123434
CREATED:20260130T025014Z
LAST-MODIFIED:20260303T035105Z
UID:10000993-1773860400-1773878400@carousellounge.com
SUMMARY:Yeast By Sweet Beast Featuring Spec. Guest 7:15pm\, Lemon Sips 8pm\, MC Terroristic 9:30\, Sticky Job 10:15\, BlueStar 11pm-midnite
DESCRIPTION:
URL:https://carousellounge.com/calendar/yeast-by-sweet-beast-fest-3/
LOCATION:Carousel Lounge\, 1110 E 52nd St.\, Austin\, TX\, 78704\, United States
END:VEVENT
BEGIN:VEVENT
DTSTART;TZID=America/Chicago:20260319T170000
DTEND;TZID=America/Chicago:20260319T190000
DTSTAMP:20260419T123434
CREATED:20260113T195038Z
LAST-MODIFIED:20260113T195038Z
UID:10000963-1773939600-1773946800@carousellounge.com
SUMMARY:Your Jack (Sam H)
DESCRIPTION:
URL:https://carousellounge.com/calendar/your-jack-sam-h/
LOCATION:Carousel Lounge\, 1110 E 52nd St.\, Austin\, TX\, 78704\, United States
END:VEVENT
BEGIN:VEVENT
DTSTART;TZID=America/Chicago:20260319T190000
DTEND;TZID=America/Chicago:20260319T210000
DTSTAMP:20260419T123434
CREATED:20260227T024132Z
LAST-MODIFIED:20260227T024328Z
UID:10001032-1773946800-1773954000@carousellounge.com
SUMMARY:MaJo G (S Goldwinners)
DESCRIPTION:
URL:https://carousellounge.com/calendar/majo-g-s-goldwinners/
LOCATION:Carousel Lounge\, 1110 E 52nd St.\, Austin\, TX\, 78704\, United States
END:VEVENT
BEGIN:VEVENT
DTSTART;TZID=America/Chicago:20260319T210000
DTEND;TZID=America/Chicago:20260320T000000
DTSTAMP:20260419T123434
CREATED:20260310T171544Z
LAST-MODIFIED:20260314T225812Z
UID:10001039-1773954000-1773964800@carousellounge.com
SUMMARY:Tony Frische 9pm\, Josh Lincoln 10:30pm\, Rosewood Lincoln 11:15-midnite (Rand Ramos) 9-mid
DESCRIPTION:
URL:https://carousellounge.com/calendar/rand-ramos-lineup-9-mid/
LOCATION:Carousel Lounge\, 1110 E 52nd St.\, Austin\, TX\, 78704\, United States
END:VEVENT
BEGIN:VEVENT
DTSTART;TZID=America/Chicago:20260320T170000
DTEND;TZID=America/Chicago:20260320T190000
DTSTAMP:20260419T123434
CREATED:20260128T192039Z
LAST-MODIFIED:20260128T192103Z
UID:10000985-1774026000-1774033200@carousellounge.com
SUMMARY:Allan Gill
DESCRIPTION:
URL:https://carousellounge.com/calendar/allan-gill-44/
LOCATION:Carousel Lounge\, 1110 E 52nd St.\, Austin\, TX\, 78704\, United States
END:VEVENT
BEGIN:VEVENT
DTSTART;TZID=America/Chicago:20260320T190000
DTEND;TZID=America/Chicago:20260320T210000
DTSTAMP:20260419T123434
CREATED:20260220T001430Z
LAST-MODIFIED:20260220T001430Z
UID:10001024-1774033200-1774040400@carousellounge.com
SUMMARY:Jenny & The Bird 7pm-7:30\, The Chicken Boys 7:40-9pm
DESCRIPTION:
URL:https://carousellounge.com/calendar/jenny-the-bird-7pm-730-the-chicken-boys-740-9pm/
LOCATION:Carousel Lounge\, 1110 E 52nd St.\, Austin\, TX\, 78704\, United States
END:VEVENT
BEGIN:VEVENT
DTSTART;TZID=America/Chicago:20260321T170000
DTEND;TZID=America/Chicago:20260321T190000
DTSTAMP:20260419T123434
CREATED:20260214T032411Z
LAST-MODIFIED:20260214T033007Z
UID:10001011-1774112400-1774119600@carousellounge.com
SUMMARY:W157 (Payton)
DESCRIPTION:
URL:https://carousellounge.com/calendar/w157/
LOCATION:Carousel Lounge\, 1110 E 52nd St.\, Austin\, TX\, 78704\, United States
END:VEVENT
END:VCALENDAR