BEGIN:VCALENDAR
VERSION:2.0
PRODID:-//Carousel Lounge - ECPv6.15.20//NONSGML v1.0//EN
CALSCALE:GREGORIAN
METHOD:PUBLISH
X-WR-CALNAME:Carousel Lounge
X-ORIGINAL-URL:https://carousellounge.com
X-WR-CALDESC:Events for Carousel Lounge
REFRESH-INTERVAL;VALUE=DURATION:PT1H
X-Robots-Tag:noindex
X-PUBLISHED-TTL:PT1H
BEGIN:VTIMEZONE
TZID:America/Chicago
BEGIN:DAYLIGHT
TZOFFSETFROM:-0600
TZOFFSETTO:-0500
TZNAME:CDT
DTSTART:20250309T080000
END:DAYLIGHT
BEGIN:STANDARD
TZOFFSETFROM:-0500
TZOFFSETTO:-0600
TZNAME:CST
DTSTART:20251102T070000
END:STANDARD
BEGIN:DAYLIGHT
TZOFFSETFROM:-0600
TZOFFSETTO:-0500
TZNAME:CDT
DTSTART:20260308T080000
END:DAYLIGHT
BEGIN:STANDARD
TZOFFSETFROM:-0500
TZOFFSETTO:-0600
TZNAME:CST
DTSTART:20261101T070000
END:STANDARD
BEGIN:DAYLIGHT
TZOFFSETFROM:-0600
TZOFFSETTO:-0500
TZNAME:CDT
DTSTART:20270314T080000
END:DAYLIGHT
BEGIN:STANDARD
TZOFFSETFROM:-0500
TZOFFSETTO:-0600
TZNAME:CST
DTSTART:20271107T070000
END:STANDARD
END:VTIMEZONE
BEGIN:VEVENT
DTSTART;TZID=America/Chicago:20260228T170000
DTEND;TZID=America/Chicago:20260228T190000
DTSTAMP:20260419T140241
CREATED:20260104T193948Z
LAST-MODIFIED:20260104T193948Z
UID:10000947-1772298000-1772305200@carousellounge.com
SUMMARY:Jane Rundquist & Too Blue
DESCRIPTION:
URL:https://carousellounge.com/calendar/jane-rundquist-too-blue/
LOCATION:Carousel Lounge\, 1110 E 52nd St.\, Austin\, TX\, 78704\, United States
END:VEVENT
BEGIN:VEVENT
DTSTART;TZID=America/Chicago:20260227T210000
DTEND;TZID=America/Chicago:20260228T000000
DTSTAMP:20260419T140241
CREATED:20260129T024223Z
LAST-MODIFIED:20260203T214825Z
UID:10000990-1772226000-1772236800@carousellounge.com
SUMMARY:Rosewood Lincoln 9pm\, King Bunny 10pm\, THEE Ancient Asses 11pm-midnite(Jon)
DESCRIPTION:
URL:https://carousellounge.com/calendar/thee-ancient-asses-another-band-or-2-jon-to-confirm/
LOCATION:Carousel Lounge\, 1110 E 52nd St.\, Austin\, TX\, 78704\, United States
END:VEVENT
BEGIN:VEVENT
DTSTART;TZID=America/Chicago:20260227T190000
DTEND;TZID=America/Chicago:20260227T210000
DTSTAMP:20260419T140241
CREATED:20251122T181456Z
LAST-MODIFIED:20251122T181456Z
UID:10000857-1772218800-1772226000@carousellounge.com
SUMMARY:Variety Jones
DESCRIPTION:
URL:https://carousellounge.com/calendar/variety-jones-33/
LOCATION:Carousel Lounge\, 1110 E 52nd St.\, Austin\, TX\, 78704\, United States
END:VEVENT
BEGIN:VEVENT
DTSTART;TZID=America/Chicago:20260227T170000
DTEND;TZID=America/Chicago:20260227T190000
DTSTAMP:20260419T140241
CREATED:20260204T230904Z
LAST-MODIFIED:20260204T231446Z
UID:10001002-1772211600-1772218800@carousellounge.com
SUMMARY:Steve McCarthy
DESCRIPTION:
URL:https://carousellounge.com/calendar/steve-mccarthy-17/
LOCATION:Carousel Lounge\, 1110 E 52nd St.\, Austin\, TX\, 78704\, United States
END:VEVENT
BEGIN:VEVENT
DTSTART;TZID=America/Chicago:20260226T190000
DTEND;TZID=America/Chicago:20260226T210000
DTSTAMP:20260419T140241
CREATED:20251204T232345Z
LAST-MODIFIED:20251204T232345Z
UID:10000894-1772132400-1772139600@carousellounge.com
SUMMARY:The Jake Waldon Band live at Carousel Lounge
DESCRIPTION:
URL:https://carousellounge.com/calendar/the-jake-waldon-band-live-at-carousel-lounge/
LOCATION:Carousel Lounge\, 1110 E 52nd St.\, Austin\, TX\, 78704\, United States
END:VEVENT
BEGIN:VEVENT
DTSTART;TZID=America/Chicago:20260226T170000
DTEND;TZID=America/Chicago:20260226T190000
DTSTAMP:20260419T140241
CREATED:20251231T172215Z
LAST-MODIFIED:20251231T172215Z
UID:10000934-1772125200-1772132400@carousellounge.com
SUMMARY:Jahpa
DESCRIPTION:
URL:https://carousellounge.com/calendar/jahpa-7/
LOCATION:Carousel Lounge\, 1110 E 52nd St.\, Austin\, TX\, 78704\, United States
END:VEVENT
BEGIN:VEVENT
DTSTART;TZID=America/Chicago:20260225T220000
DTEND;TZID=America/Chicago:20260226T000000
DTSTAMP:20260419T140241
CREATED:20260220T023123Z
LAST-MODIFIED:20260220T023123Z
UID:10001025-1772056800-1772064000@carousellounge.com
SUMMARY:Back Rub Club 10pm\, Coffee Badgers 11-midnite
DESCRIPTION:
URL:https://carousellounge.com/calendar/back-rub-club-10pm-coffee-badgers-11-midnite/
LOCATION:Carousel Lounge\, 1110 E 52nd St.\, Austin\, TX\, 78704\, United States
END:VEVENT
BEGIN:VEVENT
DTSTART;TZID=America/Chicago:20260225T210000
DTEND;TZID=America/Chicago:20260225T220000
DTSTAMP:20260419T140241
CREATED:20260204T162742Z
LAST-MODIFIED:20260204T162742Z
UID:10001001-1772053200-1772056800@carousellounge.com
SUMMARY:Spank Communication
DESCRIPTION:
URL:https://carousellounge.com/calendar/spank-communication/
LOCATION:Carousel Lounge\, 1110 E 52nd St.\, Austin\, TX\, 78704\, United States
END:VEVENT
BEGIN:VEVENT
DTSTART;TZID=America/Chicago:20260225T190000
DTEND;TZID=America/Chicago:20260225T210000
DTSTAMP:20260419T140241
CREATED:20260119T215257Z
LAST-MODIFIED:20260119T215257Z
UID:10000972-1772046000-1772053200@carousellounge.com
SUMMARY:The JAMBS
DESCRIPTION:
URL:https://carousellounge.com/calendar/the-jambs/
LOCATION:Carousel Lounge\, 1110 E 52nd St.\, Austin\, TX\, 78704\, United States
END:VEVENT
BEGIN:VEVENT
DTSTART;TZID=America/Chicago:20260225T180000
DTEND;TZID=America/Chicago:20260225T190000
DTSTAMP:20260419T140241
CREATED:20260203T041159Z
LAST-MODIFIED:20260203T041159Z
UID:10000998-1772042400-1772046000@carousellounge.com
SUMMARY:Teflon Beast
DESCRIPTION:
URL:https://carousellounge.com/calendar/teflon-beast/
LOCATION:Carousel Lounge\, 1110 E 52nd St.\, Austin\, TX\, 78704\, United States
END:VEVENT
BEGIN:VEVENT
DTSTART;TZID=America/Chicago:20260221T210000
DTEND;TZID=America/Chicago:20260222T010000
DTSTAMP:20260419T140241
CREATED:20251120T200501Z
LAST-MODIFIED:20260110T163941Z
UID:10000853-1771707600-1771722000@carousellounge.com
SUMMARY:Evening 9pm\, Cabeza de Vaca 10pm\, Disco Dance w/DJ Mosey 11pm-1am(Julia Hun.)
DESCRIPTION:
URL:https://carousellounge.com/calendar/possible-party-julia-hun-9pm-1am-to-confirm/
LOCATION:Carousel Lounge\, 1110 E 52nd St.\, Austin\, TX\, 78704\, United States
END:VEVENT
BEGIN:VEVENT
DTSTART;TZID=America/Chicago:20260221T200000
DTEND;TZID=America/Chicago:20260221T210000
DTSTAMP:20260419T140241
CREATED:20251203T025446Z
LAST-MODIFIED:20251203T025446Z
UID:10000887-1771704000-1771707600@carousellounge.com
SUMMARY:Bellydancers 30th year!! Come celebrate this Show. . . .
DESCRIPTION:
URL:https://carousellounge.com/calendar/bellydancers-30th-year-come-celebrate-this-show/
LOCATION:Carousel Lounge\, 1110 E 52nd St.\, Austin\, TX\, 78704\, United States
END:VEVENT
BEGIN:VEVENT
DTSTART;TZID=America/Chicago:20260221T190000
DTEND;TZID=America/Chicago:20260221T200000
DTSTAMP:20260419T140241
CREATED:20251228T190523Z
LAST-MODIFIED:20251228T190523Z
UID:10000924-1771700400-1771704000@carousellounge.com
SUMMARY:Nematoads
DESCRIPTION:
URL:https://carousellounge.com/calendar/nematoads-3/
LOCATION:Carousel Lounge\, 1110 E 52nd St.\, Austin\, TX\, 78704\, United States
END:VEVENT
BEGIN:VEVENT
DTSTART;TZID=America/Chicago:20260221T170000
DTEND;TZID=America/Chicago:20260221T190000
DTSTAMP:20260419T140241
CREATED:20260113T033509Z
LAST-MODIFIED:20260205T063137Z
UID:10000961-1771693200-1771700400@carousellounge.com
SUMMARY:Meagans Birthday Party 5-7pm
DESCRIPTION:
URL:https://carousellounge.com/calendar/meagans-birthday-party-5-7pm/
LOCATION:Carousel Lounge\, 1110 E 52nd St.\, Austin\, TX\, 78704\, United States
END:VEVENT
BEGIN:VEVENT
DTSTART;TZID=America/Chicago:20260220T210000
DTEND;TZID=America/Chicago:20260221T000000
DTSTAMP:20260419T140241
CREATED:20260123T045334Z
LAST-MODIFIED:20260207T024520Z
UID:10000979-1771621200-1771632000@carousellounge.com
SUMMARY:St. Inky's Cherry Pie Party w/Aileen Adler 9pm\, St. Inky 10pm\, Wes Haynes 11pm-midnite
DESCRIPTION:
URL:https://carousellounge.com/calendar/st-inkys-cherry-pie-party-2/
LOCATION:Carousel Lounge\, 1110 E 52nd St.\, Austin\, TX\, 78704\, United States
END:VEVENT
BEGIN:VEVENT
DTSTART;TZID=America/Chicago:20260220T190000
DTEND;TZID=America/Chicago:20260220T210000
DTSTAMP:20260419T140241
CREATED:20251126T025035Z
LAST-MODIFIED:20260123T193444Z
UID:10000872-1771614000-1771621200@carousellounge.com
SUMMARY:Street Fighting Man 7pm\, Lisa Gamache & Banned for Life 8-9pm
DESCRIPTION:
URL:https://carousellounge.com/calendar/lisa-gamache-banned-for-life-friends/
LOCATION:Carousel Lounge\, 1110 E 52nd St.\, Austin\, TX\, 78704\, United States
END:VEVENT
BEGIN:VEVENT
DTSTART;TZID=America/Chicago:20260220T170000
DTEND;TZID=America/Chicago:20260220T190000
DTSTAMP:20260419T140241
CREATED:20251108T180246Z
LAST-MODIFIED:20251108T180303Z
UID:10000828-1771606800-1771614000@carousellounge.com
SUMMARY:Allan Gill
DESCRIPTION:
URL:https://carousellounge.com/calendar/allan-gill-42/
LOCATION:Carousel Lounge\, 1110 E 52nd St.\, Austin\, TX\, 78704\, United States
END:VEVENT
BEGIN:VEVENT
DTSTART;TZID=America/Chicago:20260219T200000
DTEND;TZID=America/Chicago:20260220T000000
DTSTAMP:20260419T140241
CREATED:20260123T030407Z
LAST-MODIFIED:20260123T031813Z
UID:10000974-1771531200-1771545600@carousellounge.com
SUMMARY:Goldwinners & Friends
DESCRIPTION:
URL:https://carousellounge.com/calendar/sam-goldwinners-friends/
LOCATION:Carousel Lounge\, 1110 E 52nd St.\, Austin\, TX\, 78704\, United States
END:VEVENT
BEGIN:VEVENT
DTSTART;TZID=America/Chicago:20260219T190000
DTEND;TZID=America/Chicago:20260219T200000
DTSTAMP:20260419T140241
CREATED:20251219T184033Z
LAST-MODIFIED:20251219T184211Z
UID:10000917-1771527600-1771531200@carousellounge.com
SUMMARY:Thad Cochran
DESCRIPTION:
URL:https://carousellounge.com/calendar/thad-cochran/
LOCATION:Carousel Lounge\, 1110 E 52nd St.\, Austin\, TX\, 78704\, United States
END:VEVENT
BEGIN:VEVENT
DTSTART;TZID=America/Chicago:20260219T170000
DTEND;TZID=America/Chicago:20260219T190000
DTSTAMP:20260419T140241
CREATED:20260127T210652Z
LAST-MODIFIED:20260127T210652Z
UID:10000983-1771520400-1771527600@carousellounge.com
SUMMARY:The Schoolmen
DESCRIPTION:
URL:https://carousellounge.com/calendar/the-schoolmen-2/
LOCATION:Carousel Lounge\, 1110 E 52nd St.\, Austin\, TX\, 78704\, United States
END:VEVENT
BEGIN:VEVENT
DTSTART;TZID=America/Chicago:20260218T190000
DTEND;TZID=America/Chicago:20260218T210000
DTSTAMP:20260419T140241
CREATED:20260103T154305Z
LAST-MODIFIED:20260103T154418Z
UID:10000945-1771441200-1771448400@carousellounge.com
SUMMARY:Eye Owe You (Alexandersson)
DESCRIPTION:
URL:https://carousellounge.com/calendar/eye-owe-you-alexandersson/
LOCATION:Carousel Lounge\, 1110 E 52nd St.\, Austin\, TX\, 78704\, United States
END:VEVENT
BEGIN:VEVENT
DTSTART;TZID=America/Chicago:20260214T190000
DTEND;TZID=America/Chicago:20260214T210000
DTSTAMP:20260419T140241
CREATED:20250924T203102Z
LAST-MODIFIED:20250924T203247Z
UID:10000779-1771095600-1771102800@carousellounge.com
SUMMARY:Musical Malpractice
DESCRIPTION:
URL:https://carousellounge.com/calendar/musical-malpractice-3/
LOCATION:Carousel Lounge\, 1110 E 52nd St.\, Austin\, TX\, 78704\, United States
END:VEVENT
BEGIN:VEVENT
DTSTART;TZID=America/Chicago:20260213T190000
DTEND;TZID=America/Chicago:20260214T000000
DTSTAMP:20260419T140241
CREATED:20260106T163833Z
LAST-MODIFIED:20260106T163913Z
UID:10000948-1771009200-1771027200@carousellounge.com
SUMMARY:Eric Hisaw 7pm Thee Sick Sick Sicks 8pm\,  Mal Thursday Quintet 9pm\, Lyres 10pm. Peacock Hens 11-midnite
DESCRIPTION:
URL:https://carousellounge.com/calendar/eric-hisaw-7pm-thee-sick-sick-sicks-8pm-mal-thursday-quintet-9pm-lyres-10pm-peacock-hens-11-midnite/
LOCATION:Carousel Lounge\, 1110 E 52nd St.\, Austin\, TX\, 78704\, United States
END:VEVENT
BEGIN:VEVENT
DTSTART;TZID=America/Chicago:20260212T210000
DTEND;TZID=America/Chicago:20260213T000000
DTSTAMP:20260419T140241
CREATED:20260128T201313Z
LAST-MODIFIED:20260128T201313Z
UID:10000987-1770930000-1770940800@carousellounge.com
SUMMARY:termin8er\, BLOCKEDONEVERYTHING\, Gizmo
DESCRIPTION:
URL:https://carousellounge.com/calendar/termin8er-blockedoneverything-gizmo/
LOCATION:Carousel Lounge\, 1110 E 52nd St.\, Austin\, TX\, 78704\, United States
END:VEVENT
BEGIN:VEVENT
DTSTART;TZID=America/Chicago:20260212T190000
DTEND;TZID=America/Chicago:20260212T210000
DTSTAMP:20260419T140241
CREATED:20260110T222247Z
LAST-MODIFIED:20260110T222247Z
UID:10000956-1770922800-1770930000@carousellounge.com
SUMMARY:Lily Dabbs
DESCRIPTION:
URL:https://carousellounge.com/calendar/lily-dabbs/
LOCATION:Carousel Lounge\, 1110 E 52nd St.\, Austin\, TX\, 78704\, United States
END:VEVENT
BEGIN:VEVENT
DTSTART;TZID=America/Chicago:20260212T170000
DTEND;TZID=America/Chicago:20260212T190000
DTSTAMP:20260419T140241
CREATED:20251229T030351Z
LAST-MODIFIED:20251229T030351Z
UID:10000928-1770915600-1770922800@carousellounge.com
SUMMARY:Jess Ledbetter
DESCRIPTION:
URL:https://carousellounge.com/calendar/jess-ledbetter-2/
LOCATION:Carousel Lounge\, 1110 E 52nd St.\, Austin\, TX\, 78704\, United States
END:VEVENT
BEGIN:VEVENT
DTSTART;TZID=America/Chicago:20260211T190000
DTEND;TZID=America/Chicago:20260211T210000
DTSTAMP:20260419T140241
CREATED:20251108T002104Z
LAST-MODIFIED:20251108T002134Z
UID:10000824-1770836400-1770843600@carousellounge.com
SUMMARY:SOB & the Dangs
DESCRIPTION:
URL:https://carousellounge.com/calendar/sob-the-dangs-3/
LOCATION:Carousel Lounge\, 1110 E 52nd St.\, Austin\, TX\, 78704\, United States
END:VEVENT
BEGIN:VEVENT
DTSTART;TZID=America/Chicago:20260211T170000
DTEND;TZID=America/Chicago:20260211T190000
DTSTAMP:20260419T140241
CREATED:20260120T180915Z
LAST-MODIFIED:20260120T180936Z
UID:10000973-1770829200-1770836400@carousellounge.com
SUMMARY:Jaymie Jordan Brown
DESCRIPTION:
URL:https://carousellounge.com/calendar/jaymie-jordan-brown/
LOCATION:Carousel Lounge\, 1110 E 52nd St.\, Austin\, TX\, 78704\, United States
END:VEVENT
BEGIN:VEVENT
DTSTART;TZID=America/Chicago:20260207T210000
DTEND;TZID=America/Chicago:20260208T010000
DTSTAMP:20260419T140241
CREATED:20260115T044259Z
LAST-MODIFIED:20260203T041655Z
UID:10000964-1770498000-1770512400@carousellounge.com
SUMMARY:DJ Rasta Sol 9pm\, Ras MUNDI 10pm\, Electric Cactus 11pm\, Keller Driskill 12-1am
DESCRIPTION:
URL:https://carousellounge.com/calendar/nathan-putting-together-bill-9-1am-w-keller-driskill/
LOCATION:Carousel Lounge\, 1110 E 52nd St.\, Austin\, TX\, 78704\, United States
END:VEVENT
BEGIN:VEVENT
DTSTART;TZID=America/Chicago:20260207T190000
DTEND;TZID=America/Chicago:20260207T210000
DTSTAMP:20260419T140241
CREATED:20260103T154615Z
LAST-MODIFIED:20260103T154615Z
UID:10000946-1770490800-1770498000@carousellounge.com
SUMMARY:Eye Owe You
DESCRIPTION:
URL:https://carousellounge.com/calendar/eye-owe-you/
LOCATION:Carousel Lounge\, 1110 E 52nd St.\, Austin\, TX\, 78704\, United States
END:VEVENT
END:VCALENDAR